BEGIN:VCALENDAR
VERSION:2.0
PRODID:-//Crivitz - ECPv6.15.20//NONSGML v1.0//EN
CALSCALE:GREGORIAN
METHOD:PUBLISH
X-ORIGINAL-URL:https://www.stadt-crivitz.de
X-WR-CALDESC:Veranstaltungen für Crivitz
REFRESH-INTERVAL;VALUE=DURATION:PT1H
X-Robots-Tag:noindex
X-PUBLISHED-TTL:PT1H
BEGIN:VTIMEZONE
TZID:Europe/Berlin
BEGIN:DAYLIGHT
TZOFFSETFROM:+0100
TZOFFSETTO:+0200
TZNAME:CEST
DTSTART:20250330T010000
END:DAYLIGHT
BEGIN:STANDARD
TZOFFSETFROM:+0200
TZOFFSETTO:+0100
TZNAME:CET
DTSTART:20251026T010000
END:STANDARD
BEGIN:DAYLIGHT
TZOFFSETFROM:+0100
TZOFFSETTO:+0200
TZNAME:CEST
DTSTART:20260329T010000
END:DAYLIGHT
BEGIN:STANDARD
TZOFFSETFROM:+0200
TZOFFSETTO:+0100
TZNAME:CET
DTSTART:20261025T010000
END:STANDARD
BEGIN:DAYLIGHT
TZOFFSETFROM:+0100
TZOFFSETTO:+0200
TZNAME:CEST
DTSTART:20270328T010000
END:DAYLIGHT
BEGIN:STANDARD
TZOFFSETFROM:+0200
TZOFFSETTO:+0100
TZNAME:CET
DTSTART:20271031T010000
END:STANDARD
END:VTIMEZONE
BEGIN:VEVENT
DTSTART;TZID=Europe/Berlin:20260303T143000
DTEND;TZID=Europe/Berlin:20260303T163000
DTSTAMP:20260422T142129
CREATED:20260303T105834Z
LAST-MODIFIED:20260303T105834Z
UID:9911-1772548200-1772555400@www.stadt-crivitz.de
SUMMARY:Kaffeeklatsch
DESCRIPTION:Die Volkssolidarität lädt zum Kaffeeklatsch ins Bürgerhaus in Crivitz ein. \nKommen Sie ins Gespräch über aktuelle\, historische\, lustige oder auch ernste Themen – ungezwungene Plauderein bei einer Tasse Kaffee oder Tee.
URL:https://www.stadt-crivitz.de/event/kaffeeklatsch/
LOCATION:Bürgerhaus Crivitz\, Rathausstraße 1\, Crivitz\, 19089\, Deutschland
CATEGORIES:Termine
END:VEVENT
BEGIN:VEVENT
DTSTART;TZID=Europe/Berlin:20260305T140000
DTEND;TZID=Europe/Berlin:20260305T160000
DTSTAMP:20260422T142129
CREATED:20260225T110549Z
LAST-MODIFIED:20260225T110549Z
UID:9821-1772719200-1772726400@www.stadt-crivitz.de
SUMMARY:Strickmarathon
DESCRIPTION:Der Heimatverein Crivitz e. V. lädt zum gemütlichen Zusammensein ein.\nBringen Sie sich Ihre Strick- Utensilien mit und verbringen Sie gemeinsam entspannte Stunden mit Handarbeit.
URL:https://www.stadt-crivitz.de/event/strickmarathon/
LOCATION:Bürgerhaus Crivitz\, Rathausstraße 1\, Crivitz\, 19089\, Deutschland
CATEGORIES:Termine
END:VEVENT
BEGIN:VEVENT
DTSTART;TZID=Europe/Berlin:20260306T190000
DTEND;TZID=Europe/Berlin:20260306T210000
DTSTAMP:20260422T142129
CREATED:20260225T110845Z
LAST-MODIFIED:20260225T110845Z
UID:9823-1772823600-1772830800@www.stadt-crivitz.de
SUMMARY:Vortragsreihe des Heimatmuseums
DESCRIPTION:“The Point Of No Return” – Die Neuwahl der Crivitzer Stadtverordnetenversammlung vom 6. März 1932 \nIn den Jahren 1930 bis 1933 zerbrach die Weimarer Demokratie unter den politischen und wirtschaftlichen Belastungen der Weltwirtschaftskrise\, während gleichzeitig der Aufstieg der Nationalsozialisten scheinbar unaufhaltsam voranschritt. In Crivitz schlossen sich im Frühjahr 1932 Nationalsozialisten und das „nationale“ Bürgertum der Stadt zu einem Bündnis zusammen\, um in der Stadtverordnetenversammlung die Sozialdemokraten und Liberalen „kaltzustellen“ und die Kontrolle über die Stadtverwaltung zu übernehmen. Mit der Betrachtung eines solchen Fallbeispiels liefert der Referent interessante Erkenntnisse über die Machtergreifung der Nationalsozialisten. \nReferent: Bernd Garrels\nBernd Garrels (*1955 in Crivitz) hatte schon als Schüler der EOS Crivitz den Wunsch\, Geschichte zu studieren. Vater Hugo Garrels\, seinerzeit stellvertreten-der Direktor der Berufsschule Crivitz\, riet davon ab. So wurde er Diplom-Informatiker – jedoch immer mit großem Interesse an Geschichte\, ganz besonders der Heimatstadt. Bernd Garrels ist Gasthörer an der Universität Rostock\, hält Vorträge und hat Beiträge zu verschiedenen Themen des 20. Jahrhunderts veröffentlicht. \nModeration: Dr. Andreas Reinecke \nMusikalische Einführung am Klavier von Andrea Reinecke
URL:https://www.stadt-crivitz.de/event/vortragsreihe-des-heimatmuseums/
LOCATION:Bürgerhaus Crivitz\, Rathausstraße 1\, Crivitz\, 19089\, Deutschland
CATEGORIES:Termine
END:VEVENT
BEGIN:VEVENT
DTSTART;TZID=Europe/Berlin:20260311T143000
DTEND;TZID=Europe/Berlin:20260311T180000
DTSTAMP:20260422T142129
CREATED:20260205T130234Z
LAST-MODIFIED:20260205T144424Z
UID:9763-1773239400-1773252000@www.stadt-crivitz.de
SUMMARY:Frauentagsfeier der Volkssolidarität
DESCRIPTION:Am 11.03.2026 lädt die Ortsgruppe Crivitz der Volkssolidarität zur Frauentagsfeier ein.  \nWann?     14:30- 18:00 Uhr\nWo?          Gaststätte „Haus Seeblick“ \nSie benötigen einen Transport?\nAuch dafür ist gesorgt!\nAbfahrt 13:55 Uhr in der Crivitzer Neustadt\n14:00 Uhr in der Crivitzer Altstadt\nRückfahrt ab ca. 18:00 Uhr\nBitte melden Sie den Transport bei Frau Piepenburg (03863 333434) oder Frau Teubner (03863 2258505) an! \nAufgrund der preislichen Entwicklung ist es in diesem Jahr nötig\, Eintrittsgelder zu erheben.\nNicht- Mitglieder    15\,00 € pro Person\nMitglieder                10\,00 € pro Person \nVerbringen Sie -natürlich auch gern mit Ihren Männern- stimmungsvolle Stunden bei Musik und einer kulturellen Überraschung!\n-Ihr Bürgerhaus Team-
URL:https://www.stadt-crivitz.de/event/frauentagsfeier-der-volkssolidaritaet/
LOCATION:Haus Seeblick\, Weinbergstraße 39\, Crivitz\, 19089\, Deutschland
CATEGORIES:Termine
END:VEVENT
BEGIN:VEVENT
DTSTART;TZID=Europe/Berlin:20260314T110000
DTEND;TZID=Europe/Berlin:20260314T143000
DTSTAMP:20260422T142129
CREATED:20260303T102218Z
LAST-MODIFIED:20260303T102218Z
UID:9908-1773486000-1773498600@www.stadt-crivitz.de
SUMMARY:Jahresempfang der Stadt Crivitz
DESCRIPTION:Liebe Bürgerinnen und Bürger\, \nim Auftrag der Bürgermeisterin der Stadt Crivitz\, Frau Britta Brusch-Gamm\, laden wir Sie recht herzlich zum diesjährigen Jahresempfang ein.\n\nMerken Sie sich den 14.03.2026 vor!\nBeginn: 11:00 Uhr \nProgramm:\n-musikalische Eröffnung durch die Musikschule LuP\n-Rückblick auf 2025 & Vorschau auf 2026 durch die Bürgermeisterin Britta Brusch- Gamm\n-Ehrungen und Eintragungen ins Ehrenbuch der Stadt\n-gemeinsamer Ausklang\nBitte melden Sie sich bis zum 09.03.2026 im Bürgerhaus in Crivitz an (03863 555983 / 0152 59140026 / crivitz@stadt-crivitz.de). \nFür Fragen\, Wünsche oder eine persönliche Absprache stehen wir Ihnen gern zur Verfügung. \nWir freuen uns sehr auf ein stimmungsvolles Event mit Ihnen!\n-Ihr Bürgerhaus Team-
URL:https://www.stadt-crivitz.de/event/jahresempfang-der-stadt-crivitz/
LOCATION:Regionale Schule Crivitz\, Straße der Freundschaft 19 A\, Crivitz\, 19089\, Deutschland
CATEGORIES:Termine
END:VEVENT
BEGIN:VEVENT
DTSTART;TZID=Europe/Berlin:20260319T140000
DTEND;TZID=Europe/Berlin:20260319T160000
DTSTAMP:20260422T142129
CREATED:20260225T111117Z
LAST-MODIFIED:20260225T111117Z
UID:9825-1773928800-1773936000@www.stadt-crivitz.de
SUMMARY:Strickmarathon
DESCRIPTION:Der Heimatverein Crivitz e. V. lädt zum gemütlichen Zusammensein ein.\nBringen Sie sich Ihre Strick- Utensilien mit und verbringen Sie gemeinsam entspannte Stunden mit Handarbeit.
URL:https://www.stadt-crivitz.de/event/strickmarathon-2/
LOCATION:Bürgerhaus Crivitz\, Rathausstraße 1\, Crivitz\, 19089\, Deutschland
CATEGORIES:Termine
END:VEVENT
BEGIN:VEVENT
DTSTART;TZID=Europe/Berlin:20260320T180000
DTEND;TZID=Europe/Berlin:20260320T210000
DTSTAMP:20260422T142129
CREATED:20260225T101529Z
LAST-MODIFIED:20260304T143501Z
UID:9796-1774029600-1774040400@www.stadt-crivitz.de
SUMMARY:Fette Fete Vol. 4
DESCRIPTION:Der Verein Jung und Alt in Crivitz e. V. lädt am 20.03.2026 zur 4. Fetten Fete ein! \nFür alle von 10 bis 16 Jahre. \n18:00- 21:00 Uhr\nGeschwister- Scholl- Platz in Crivitz \nEintritt frei\nBitte bringt euch etwas Taschengeld für Snacks und Getränke mit. \nWir wünschen allen einen stimmungsvollen Abend!\n-Euer Bürgerhaus Team-
URL:https://www.stadt-crivitz.de/event/fette-fete-vol-4/
LOCATION:Geschwister-Scholl-Platz
CATEGORIES:Termine
END:VEVENT
BEGIN:VEVENT
DTSTART;TZID=Europe/Berlin:20260326T140000
DTEND;TZID=Europe/Berlin:20260326T160000
DTSTAMP:20260422T142129
CREATED:20260302T121743Z
LAST-MODIFIED:20260304T134331Z
UID:9889-1774533600-1774540800@www.stadt-crivitz.de
SUMMARY:Informationsveranstaltung des Senioren- und Behindertenbeirates
DESCRIPTION:Der Senioren- und Behindertenbeirat lädt am 26.03.2026 um 14:00 Uhr zu einer Informationsveranstaltung in das Bürgerhaus ein.\n\nEs wird um Fragen und Informationen um das Thema „Hospizarbeit heute“ gehen. \nDer Hospizdienst unterstützt schwerstkranke Menschen und ihre Angehörigen und ermöglicht es\, die letzte Lebensphase bewusst\, selbstbestimmt und möglichst beschwerdefrei in vertrauter Umgebung zu gestalten.\nDas Thema ist sensibel\, aber es kann jeden treffen. \nInformieren Sie sich\, welche Hilfe es gibt und wie Sie gegebenenfalls helfen können – Ihren Nachbarn\, Freunden\, Angehörigen. \nFür wen ist der Hospizdienst da?\nWas kann er leisten?\nWer kann ihn anfordern?\nWie wird er finanziert?\nKann man suich ehrenamtlich engagieren oder anderweitig unterstützen?\nUm diese und weitere Fragen wird es in lockerer Atmosphäre gehen.\nHaben Sie Mut – denn Wissen gibt Sicherheit! \nFriedemann Schirrmeister vom ambulanten Hospizdienst Parchim- Goldberg steht Ihnen mit Informationen und für Ihre Fragen bei Kaffee und Kuchen zur Verfügung. \nWir wünschen dem Senioren- und Behindertenbeirat viele interessierte Besucher und Ihnen viel nützliches Wissen!\n-Ihr Bürgerhaus Team-
URL:https://www.stadt-crivitz.de/event/informationsveranstaltung-des-sbb/
LOCATION:Bürgerhaus Crivitz\, Rathausstraße 1\, Crivitz\, 19089\, Deutschland
CATEGORIES:Termine
ORGANIZER;CN="Senioren- und Behindertenbeirat Crivitz":MAILTO:crivitz@stadt-crivitz.de
END:VEVENT
BEGIN:VEVENT
DTSTART;TZID=Europe/Berlin:20260328T090000
DTEND;TZID=Europe/Berlin:20260328T120000
DTSTAMP:20260422T142129
CREATED:20260304T134536Z
LAST-MODIFIED:20260304T134536Z
UID:9962-1774688400-1774699200@www.stadt-crivitz.de
SUMMARY:Frühjahrsputz in Crivitz
DESCRIPTION:Am 28.03.2026 laden die Bürgermeisterin und der Umweltausschuss von 9:00- 11:30 Uhr zum Frühjahrsputz in Crivitz ein.  \nerforderliche Arbeiten:\n-Unrat sammeln\, Sand aufschaufeln\, überhängende Sträucher zurückschneiden auf allen Spielplätzen\n-Kanten entlang des Fußgängerweges im Rosenweg von Laubresten befreien\, Strauchwerk und Rosen zurückschneiden\n-um die Spielgeräte des Rosenwegspielplatzes säubern\, Sandgrube herrichten\, Müll absammeln\n-auf der gesamten Fläche der Seewiesen und Seekante heruntergefallenes Feinglas und Müll absammeln\, überhängende Zweige zurückschneiden\n-Unrat um die Findlinge absammeln und die Findlinge frei mähen\, Feireisig zusammenharken\n-zurückschneiden von überhängenden Sträuchern auf dem Burgplatz\, Laub um die Sportgeräte entfernen\, abharken\n-Unrat im Gebiet der Neustadt absammeln\n-öffentliche Beschilderungen\, Wanderwegweiser und touristische Beschilderungen reinigen \nSchulen\, Hort\, KiTas\, Wohngemeinschaften\, Gartensparten und die Ortsteilvertretung in Gädebehn organisieren ihren Frühjahrsputz bitte eingenständig und informieren die Beteiligten über ihr Vorhaben.\nAlle Vereine sind aufgerufen\, das Umfeld ihrer Vereinsobjekte zu pflegen und zu säubern. \nIn Wessin wird das Kulturhaus von innen gesäubert sowie das Rondell am Friedhof gepflegt. \nZusammengetragener Müll und Unrat werden bitte an einem sichtbaren Ort abgelegt und im Anschluss von den Mitarbeitern des Stadtbauhofes abgefahren. \nAb 12:00 Uhr findet ein Mittagsimbiss an folgenden Stationen statt:\nfür Crivitz             am Bürgerhaus (Rathausstraße 1)\nfür Gädebehn     auf der Wiese vor der Brauerei Albers \nNach Abschluss des Frühjahrsputzes teilen Sie uns bitte zur Würdigung der Teilnehmer und Abrechnung der Leistungen das bearbeitete Objekt und die Teilnehmer bis spätestens 04.04.2026 mit (crivitz@stadt-crivitz.de / 03863 555983 / 0152 59140026). \nWir freuen uns auf tatkräftige Unterstützung!\n-Euer Bürgerhaus Team-
URL:https://www.stadt-crivitz.de/event/fruehjahrsputz-in-crivitz-2/
LOCATION:Bürgerhaus Crivitz\, Rathausstraße 1\, Crivitz\, 19089\, Deutschland
CATEGORIES:Termine
ORGANIZER;CN="Umweltausschuss der Stadt Crivitz":MAILTO:crivitz@stadt-crivitz.de
END:VEVENT
BEGIN:VEVENT
DTSTART;TZID=Europe/Berlin:20260328T133000
DTEND;TZID=Europe/Berlin:20260328T160000
DTSTAMP:20260422T142129
CREATED:20260317T131702Z
LAST-MODIFIED:20260317T131702Z
UID:10021-1774704600-1774713600@www.stadt-crivitz.de
SUMMARY:Kinderkleiderbörse
DESCRIPTION:Der KSV Kultur- und Sportverein Wessin e. V. lädt am 28.03.2026 um 13:30 Uhr zur Kinderkleiderbörse ein. \n\nFreut euch auf:– schöne Kinderkleidung– tolles Spielzeug\n– Kaffee & Kuchen\nUnd alles zu richtig guten Preisen! \nWir wünschen viel Freude beim Stöbern und Feilschen!\n-Euer Bürgerhaus Team-
URL:https://www.stadt-crivitz.de/event/kinderkleiderboerse/
LOCATION:Kulturhaus Wessin\, Am Kulturhaus\, Wessin\, 19089\, Deutschland
CATEGORIES:Termine
END:VEVENT
BEGIN:VEVENT
DTSTART;TZID=Europe/Berlin:20260328T140000
DTEND;TZID=Europe/Berlin:20260328T160000
DTSTAMP:20260422T142129
CREATED:20260225T111555Z
LAST-MODIFIED:20260225T111555Z
UID:9827-1774706400-1774713600@www.stadt-crivitz.de
SUMMARY:Plattsnacker- Nachmiddag
DESCRIPTION:Der Heimatverein Crivitz e. V. lädt zum gemütlichen Zusammensein ein.Tauschen Sie kleine Gedichte und Geschichten aus und singen Sie gemeinsam – selbstverständlich auf Platt!\nFür Kaffee & Kuchen wird gesorgt sein.
URL:https://www.stadt-crivitz.de/event/plattsnacker-nachmiddag/
LOCATION:Bürgerhaus Crivitz\, Rathausstraße 1\, Crivitz\, 19089\, Deutschland
CATEGORIES:Termine
END:VEVENT
BEGIN:VEVENT
DTSTART;TZID=Europe/Berlin:20260328T170000
DTEND;TZID=Europe/Berlin:20260328T183000
DTSTAMP:20260422T142129
CREATED:20260304T140012Z
LAST-MODIFIED:20260304T140012Z
UID:9967-1774717200-1774722600@www.stadt-crivitz.de
SUMMARY:Historischer Stadtspaziergang
DESCRIPTION:Am 28.03.2026 findet der nächste Historische Stadtspaziergang statt. \n \nHier bietet sich Ihnen die einzigartige Gelegenheit\, in die Vergangenheit einzutauchen und Crivitz von einer neuen Seite zu entdecken.\nUnser Stadtführer\, Andreas Rüß\, wird Sie durch die Straßen und Plätze unserer Stadt führen und Ihnen dabei faszinierende Geschichten und Anekdoten aus vergangenen Zeiten erzählen.\nDer Stadtspaziergang startet um 17:00 Uhr am Bürgerhaus und dauert etwa 1\,5 Stunden.\nEs ist keine Anmeldung erforderlich\, Sie können einfach zum Treffpunkt am Bürgerhaus kommen und sich dem Spaziergang anschließen.\nWir freuen uns darauf\, Sie beim historischen Stadtspaziergang mit Andreas begrüßen zu dürfen. \nSicher wird Andreas auch in diesem Monat wieder etwas ganz Besonderes für uns bereit halten und uns überraschen!\n-Ihr Bürgerhaus Team-
URL:https://www.stadt-crivitz.de/event/historischer-stadtspaziergang-3/
LOCATION:Bürgerhaus Crivitz\, Rathausstraße 1\, Crivitz\, 19089\, Deutschland
CATEGORIES:Termine
END:VEVENT
END:VCALENDAR