BEGIN:VCALENDAR
VERSION:2.0
PRODID:-//Crivitz - ECPv6.15.20//NONSGML v1.0//EN
CALSCALE:GREGORIAN
METHOD:PUBLISH
X-WR-CALNAME:Crivitz
X-ORIGINAL-URL:https://www.stadt-crivitz.de
X-WR-CALDESC:Veranstaltungen für Crivitz
REFRESH-INTERVAL;VALUE=DURATION:PT1H
X-Robots-Tag:noindex
X-PUBLISHED-TTL:PT1H
BEGIN:VTIMEZONE
TZID:Europe/Berlin
BEGIN:DAYLIGHT
TZOFFSETFROM:+0100
TZOFFSETTO:+0200
TZNAME:CEST
DTSTART:20250330T010000
END:DAYLIGHT
BEGIN:STANDARD
TZOFFSETFROM:+0200
TZOFFSETTO:+0100
TZNAME:CET
DTSTART:20251026T010000
END:STANDARD
BEGIN:DAYLIGHT
TZOFFSETFROM:+0100
TZOFFSETTO:+0200
TZNAME:CEST
DTSTART:20260329T010000
END:DAYLIGHT
BEGIN:STANDARD
TZOFFSETFROM:+0200
TZOFFSETTO:+0100
TZNAME:CET
DTSTART:20261025T010000
END:STANDARD
BEGIN:DAYLIGHT
TZOFFSETFROM:+0100
TZOFFSETTO:+0200
TZNAME:CEST
DTSTART:20270328T010000
END:DAYLIGHT
BEGIN:STANDARD
TZOFFSETFROM:+0200
TZOFFSETTO:+0100
TZNAME:CET
DTSTART:20271031T010000
END:STANDARD
END:VTIMEZONE
BEGIN:VEVENT
DTSTART;TZID=Europe/Berlin:20260205T080000
DTEND;TZID=Europe/Berlin:20260205T170000
DTSTAMP:20260422T160851
CREATED:20260205T150210Z
LAST-MODIFIED:20260205T150210Z
UID:9776-1770278400-1770310800@www.stadt-crivitz.de
SUMMARY:Frühjahrsputz in Crivitz
DESCRIPTION:Am 28.03.2026 laden die Bürgermeisterin und der Umweltausschuss von 9:00- 11:30 Uhr zum Frühjahrsputz in Crivitz ein.  \nerforderliche Arbeiten:\n-Unrat sammeln\, Sand aufschaufeln\, überhängende Sträucher zurückschneiden auf allen Spielplätzen\n-Kanten entlang des Fußgängerweges im Rosenweg von Laubresten befreien\, Strauchwerk und Rosen zurückschneiden\n-um die Spielgeräte des Rosenwegspielplatzes säubern\, Sandgrube herrichten\, Müll absammeln\n-auf der gesamten Fläche der Seewiesen und Seekante heruntergefallenes Feinglas und Müll absammeln\, überhängende Zweige zurückschneiden\n-Unrat um die Findlinge absammeln und die Findlinge frei mähen\, Feireisig zusammenharken\n-zurückschneiden von überhängenden Sträuchern auf dem Burgplatz\, Laub um die Sportgeräte entfernen\, abharken\n-Unrat im Gebiet der Neustadt absammeln\n-öffentliche Beschilderungen\, Wanderwegweiser und touristische Beschilderungen reinigen \nSchulen\, Hort\, KiTas\, Wohngemeinschaften\, Gartensparten und die Ortsteilvertretung in Gädebehn organisieren ihren Frühjahrsputz bitte eingenständig und informieren die Beteiligten über ihr Vorhaben.\nAlle Vereine sind aufgerufen\, das Umfeld ihrer Vereinsobjekte zu pflegen und zu säubern. \nIn Wessin wird das Kulturhaus von innen gesäubert sowie das Rondell am Friedhof gepflegt. \nZusammengetragener Müll und Unrat werden bitte an einem sichtbaren Ort abgelegt und im Anschluss von den Mitarbeitern des Stadtbauhofes abgefahren. \nAb 12:00 Uhr findet ein Mittagsimbiss an folgenden Stationen statt:\nfür Crivitz             am Bürgerhaus (Rathausstraße 1)\nfür Gädebehn     auf der Wiese vor der Brauerei Albers \nNach Abschluss des Frühjahrsputzes teilen Sie uns bitte zur Würdigung der Teilnehmer und Abrechnung der Leistungen das bearbeitete Objekt und die Teilnehmer bis spätestens 04.04.2026 mit (crivitz@stadt-crivitz.de / 03863 555983 / 0152 59140026). \nWir freuen uns auf tatkräftige Unterstützung!\n-Euer Bürgerhaus Team-
URL:https://www.stadt-crivitz.de/event/fruehjahrsputz-in-crivitz/
LOCATION:Mecklenburg- Vorpommern
CATEGORIES:Termine
END:VEVENT
BEGIN:VEVENT
DTSTART;TZID=Europe/Berlin:20260205T080000
DTEND;TZID=Europe/Berlin:20260205T170000
DTSTAMP:20260422T160851
CREATED:20260205T152332Z
LAST-MODIFIED:20260205T152332Z
UID:9781-1770278400-1770310800@www.stadt-crivitz.de
SUMMARY:Öffentliche Sitzung des Senioren- und Behindertenbeirates
DESCRIPTION:Der Senioren- und Behindertenbeirat lädt am 26.03.2026 zu einer öffentlichen Sitzung in das Bürgerhaus Crivitz (Rathausstraße 1) ein.  \nDer Beirat stellt in der Sitzung seine Tätigkeit vor und wünscht sich Informationen von Bürgern\, Vereinen und Institutionen.\nWas kann verbessert werden?\nWas behindert Sie im Alltag?\nWas fehlt Ihnen vor Ort?\nWelche Angebote kann der Senioren- und Behindertenbeirat machen? \nGemeinsam wollen sie mit Ihnen die Stadt Crivitz sicherer machen und mehr Lebensqualität schaffen. \nEine tolle Gelegenheit zum Austausch!\n-Ihr Bürgerhaus Team-
URL:https://www.stadt-crivitz.de/event/oeffentliche-sitzung-des-senioren-und-behindertenbeirates/
LOCATION:Mecklenburg- Vorpommern
CATEGORIES:Termine
END:VEVENT
BEGIN:VEVENT
DTSTART;TZID=Europe/Berlin:20260217T153000
DTEND;TZID=Europe/Berlin:20260217T170000
DTSTAMP:20260422T160851
CREATED:20260205T110226Z
LAST-MODIFIED:20260205T110613Z
UID:9752-1771342200-1771347600@www.stadt-crivitz.de
SUMMARY:"Fit im Umgang mit WhatsApp"
DESCRIPTION:Der Senioren- und Behindertenbeirat lädt am 17.02.2026 um 15:30 Uhr ins Crivitzer Bürgerhaus ein.  \nErfahren Sie\, wie Sie WhatsApp optimal nutzen und welche Vielzahl an Funktionen WhatsApp bietet.\n-Kontakte\, Chats\, Sprachnachrichten\n-Statusmeldungen und WhatsApp- Kanäle\n-Fotos\, Videos oder Standorte teilen\n-künstliche Intelligenz (Meta AI)\n-Speicher- und Datenschutzeinstellungen \nGeeignet ist dieser Kurs auch für Anfänger.\nBitte bringen Sie Ihr Smartphone mit.\nNur für Android- Smartphones! \nEine Anmeldung ist nicht nötig. \nWir wünschen Ihnen viele neue Erkenntnisse!\n-Ihr Bürgerhaus Team-
URL:https://www.stadt-crivitz.de/event/fit-im-umgang-mit-whatsapp/
LOCATION:Bürgerhaus Crivitz\, Rathausstraße 1\, Crivitz\, 19089\, Deutschland
CATEGORIES:Termine
ORGANIZER;CN="Senioren- und Behindertenbeirat Crivitz":MAILTO:crivitz@stadt-crivitz.de
END:VEVENT
BEGIN:VEVENT
DTSTART;TZID=Europe/Berlin:20260224T170000
DTEND;TZID=Europe/Berlin:20260224T183000
DTSTAMP:20260422T160851
CREATED:20260223T084858Z
LAST-MODIFIED:20260223T084858Z
UID:9792-1771952400-1771957800@www.stadt-crivitz.de
SUMMARY:Bürgerdialog mit Stefanie Dreese
DESCRIPTION:Am 24.02.2026 lädt Stefanie Drese von 17:00- 18:30 Uhr in die Aula der Regionalen Schule (Straße der Freundschaft 19 a in Crivitz) zum Bürgerdialog ein.  \nWas muss Politik jetzt leisten? Angesichts angespannter Haushaltslagen sowie zahlreicher Krisen in Deutschland\, Europa und der Welt ist das eine berechtigte Frage\, die viele Menschen bewegt – Frau Drese eingeschlossen. \nDeshalb möchte sie direkt mit Ihnen ins Gespräch kommen.\nWas läuft gut in der Region?\nWo haben Sie Sorgen oder sehen konkrete Probleme?\nIn welchen Bereichen sollte die Landesregierung ihre Politik besser erklären oder aus Ihrer Sicht nachjustieren? \nKaum ein Bereich betrifft die Menschen derzeit mehr als die Sozial- und Gesundheitspolitik\, das ist Frau Drese bewusst.\nWie geht es weiter mit der Krankenhausreform und welche Auswirkungen hat das für die Region?\nWas bedeutet der demografische Wandel für die Gesundheitsversorgung\, Pflege oder die Rente?\nWie entwickeln sich die Sozialleistungen?\nWie sieht eine moderne Familienpolitik aus?\nUnd was brauchen der Sport und das Ehrenamt? \nÜber diese und weitere Fragen möchte die Ministerin für Soziales\, Gesundheit und Sport in MV mit Ihnen in einem offenen\, gemeinsamen und wertschätzenden Austausch verständigen\, um die Arbeit der Landesregierung zu erläutern\, um voneinander zu lernen und gemeinsam Lösungen zu entwickeln. \nAnmelden können Sie sich per Mail an pressestelle@sm.mv-regierung.de.  \nWir wünschen allen Teilnehmern einen kostruktiven und informativen Abend.\n-Ihr Bürgerhaus Team-
URL:https://www.stadt-crivitz.de/event/buergerdialog-mit-stefanie-dreese/
LOCATION:Regionale Schule Crivitz\, Straße der Freundschaft 19 A\, Crivitz\, 19089\, Deutschland
CATEGORIES:Termine
END:VEVENT
BEGIN:VEVENT
DTSTART;TZID=Europe/Berlin:20260225T140000
DTEND;TZID=Europe/Berlin:20260225T190000
DTSTAMP:20260422T160851
CREATED:20260225T140141Z
LAST-MODIFIED:20260225T140141Z
UID:9874-1772028000-1772046000@www.stadt-crivitz.de
SUMMARY:Sommerfest der Volkssolidarität & des Heimatvereins
DESCRIPTION:-Einzelheiten folgen-
URL:https://www.stadt-crivitz.de/event/sommerfest-der-volkssolidaritaet-des-heimatvereins/
LOCATION:Bürgerhaus Crivitz\, Rathausstraße 1\, Crivitz\, 19089\, Deutschland
END:VEVENT
BEGIN:VEVENT
DTSTART;TZID=Europe/Berlin:20260225T180000
DTEND;TZID=Europe/Berlin:20260225T190000
DTSTAMP:20260422T160851
CREATED:20260205T105008Z
LAST-MODIFIED:20260205T133859Z
UID:9748-1772042400-1772046000@www.stadt-crivitz.de
SUMMARY:Beratung Gewürzgarten
DESCRIPTION:Am 25.02.2026 um 18:00 Uhr lädt der Umweltausschuss alle Interessierten in das Bürgerhaus Crivitz (Rathausstraße 1) ein.  \nAuf einer vorbereiteten Fläche von ca. 18x 12 Metern sollen im weiten Verband die Beete für die verschiedenen Küchen- und Heilkräuter vorbereitet werden.\nHierzu soll über den Aufbau und die Gestaltung am 25.02.2026 beraten werden. \nSie möchten sich dieser Arbeitsgruppe anschließen und haben einen grünen Daumen?\nKommen Sie gern vorbei – auch ohne Anmeldung! \nWir freuen uns auf einen konstruktiven Austausch und tolle Ideen!\n-Ihr Bürgerhaus Team-
URL:https://www.stadt-crivitz.de/event/beratung-gewuerzgarten/
LOCATION:Bürgerhaus Crivitz\, Rathausstraße 1\, Crivitz\, 19089\, Deutschland
CATEGORIES:Termine
ORGANIZER;CN="Umweltausschuss der Stadt Crivitz":MAILTO:crivitz@stadt-crivitz.de
END:VEVENT
BEGIN:VEVENT
DTSTART;TZID=Europe/Berlin:20260228T170000
DTEND;TZID=Europe/Berlin:20260228T183000
DTSTAMP:20260422T160851
CREATED:20260205T122809Z
LAST-MODIFIED:20260205T122809Z
UID:9758-1772298000-1772303400@www.stadt-crivitz.de
SUMMARY:Historischer Stadtspaziergang
DESCRIPTION:Am 28.02.2026 findet der nächste Historische Stadtspaziergang statt. \n \nHier bietet sich Ihnen die einzigartige Gelegenheit\, in die Vergangenheit einzutauchen und Crivitz von einer neuen Seite zu entdecken.\nUnser Stadtführer\, Andreas Rüß\, wird Sie durch die Straßen und Plätze unserer Stadt führen und Ihnen dabei faszinierende Geschichten und Anekdoten aus vergangenen Zeiten erzählen.\nDer Stadtspaziergang startet um 17:00 Uhr am Bürgerhaus und dauert etwa 1\,5 Stunden.\nEs ist keine Anmeldung erforderlich\, Sie können einfach zum Treffpunkt am Bürgerhaus kommen und sich dem Spaziergang anschließen.\nWir freuen uns darauf\, Sie beim historischen Stadtspaziergang mit Andreas begrüßen zu dürfen. \nNach der Foto- Safari im Januar warten wir gespannt\, womit Andreas uns dieses Mal überraschen wird!\n-Ihr Bürgerhaus Team-
URL:https://www.stadt-crivitz.de/event/historischer-stadtspaziergang-2/
LOCATION:Bürgerhaus Crivitz\, Rathausstraße 1\, Crivitz\, 19089\, Deutschland
CATEGORIES:Termine
END:VEVENT
END:VCALENDAR