BEGIN:VCALENDAR
VERSION:2.0
PRODID:-//Crivitz - ECPv6.15.20//NONSGML v1.0//EN
CALSCALE:GREGORIAN
METHOD:PUBLISH
X-ORIGINAL-URL:https://www.stadt-crivitz.de
X-WR-CALDESC:Veranstaltungen für Crivitz
REFRESH-INTERVAL;VALUE=DURATION:PT1H
X-Robots-Tag:noindex
X-PUBLISHED-TTL:PT1H
BEGIN:VTIMEZONE
TZID:Europe/Berlin
BEGIN:DAYLIGHT
TZOFFSETFROM:+0100
TZOFFSETTO:+0200
TZNAME:CEST
DTSTART:20250330T010000
END:DAYLIGHT
BEGIN:STANDARD
TZOFFSETFROM:+0200
TZOFFSETTO:+0100
TZNAME:CET
DTSTART:20251026T010000
END:STANDARD
BEGIN:DAYLIGHT
TZOFFSETFROM:+0100
TZOFFSETTO:+0200
TZNAME:CEST
DTSTART:20260329T010000
END:DAYLIGHT
BEGIN:STANDARD
TZOFFSETFROM:+0200
TZOFFSETTO:+0100
TZNAME:CET
DTSTART:20261025T010000
END:STANDARD
BEGIN:DAYLIGHT
TZOFFSETFROM:+0100
TZOFFSETTO:+0200
TZNAME:CEST
DTSTART:20270328T010000
END:DAYLIGHT
BEGIN:STANDARD
TZOFFSETFROM:+0200
TZOFFSETTO:+0100
TZNAME:CET
DTSTART:20271031T010000
END:STANDARD
END:VTIMEZONE
BEGIN:VEVENT
DTSTART;TZID=Europe/Berlin:20260426T170000
DTEND;TZID=Europe/Berlin:20260426T170000
DTSTAMP:20260422T161320
CREATED:20260413T124741Z
LAST-MODIFIED:20260413T124741Z
UID:10130-1777222800-1777222800@www.stadt-crivitz.de
SUMMARY:Frühlingskonzert der Kirchenchöre
DESCRIPTION:Die Kirchenchöre Crivitz & Pinnow laden am 26.04.2026 um 17:00 Uhr zum Frühlingskonzert in die Stadtkirche Crivitz ein.  \nDie Leitung des Konzertes haben Marit Danielsen & Christa Maier. \nWir wünschen allen einen Abend voller musikalischer Highlights!\n-Ihr Bürgerhaus Team-
URL:https://www.stadt-crivitz.de/event/fruehlingskonzert-der-kirchenchoere/
LOCATION:ev.-luth. Stadtkirche zu Crivitz\, Kirchenstraße 2\, Crivitz\, 19089\, Deutschland
CATEGORIES:Termine
END:VEVENT
BEGIN:VEVENT
DTSTART;TZID=Europe/Berlin:20260430T180000
DTEND;TZID=Europe/Berlin:20260430T233000
DTSTAMP:20260422T161320
CREATED:20260323T104739Z
LAST-MODIFIED:20260323T104739Z
UID:10064-1777572000-1777591800@www.stadt-crivitz.de
SUMMARY:Wessiner Frühlingsfest
DESCRIPTION:Am 30.04.2026 findet um 18:00 Uhr auf der Wessiner Festwiede das Frühlingsfest statt. \nWenn die ersten Blätter tanzen und der Frühling erwacht\, wird in Wessin der Maibaum aufgestellt. \nSeid Teil dieser Tradition und erlebt einen geselligen Abend mit vielen Gästen und leckerem Essen vom Grill.\n-Euer Bürgerhaus Team-
URL:https://www.stadt-crivitz.de/event/wessiner-fruehlingsfest/
LOCATION:Festwiese Wessin
CATEGORIES:Termine
END:VEVENT
BEGIN:VEVENT
DTSTART;TZID=Europe/Berlin:20260430T190000
DTEND;TZID=Europe/Berlin:20260430T190000
DTSTAMP:20260422T161320
CREATED:20260420T091816Z
LAST-MODIFIED:20260420T091816Z
UID:10218-1777575600-1777575600@www.stadt-crivitz.de
SUMMARY:Markt in Flammen
DESCRIPTION:Der Förderverein der Freiwilligen Feuerwehr „Theodor Körner“ lädt zum Markt in Flammen – Tanz in den Mai am 30.04.2026 ein.  \n19:00 Uhr Umzug vom Bahnhof zum Markt.\nAnschließend Tanz auf dem Markt. \nFür das leibliche Wohl wird gesorgt sein.\nDer Eintritt ist kostenfrei. \nWir wünschen viel Vergnügen!\n-Das Bürgerhaus Team-
URL:https://www.stadt-crivitz.de/event/markt-in-flammen/
LOCATION:Marktplatz Crivitz
CATEGORIES:Termine
END:VEVENT
BEGIN:VEVENT
DTSTART;TZID=Europe/Berlin:20260501T100000
DTEND;TZID=Europe/Berlin:20260501T170000
DTSTAMP:20260422T161320
CREATED:20260305T144737Z
LAST-MODIFIED:20260305T144737Z
UID:10000-1777629600-1777654800@www.stadt-crivitz.de
SUMMARY:Radtour des SV Crivitz
DESCRIPTION:-Einzelheiten folgen-
URL:https://www.stadt-crivitz.de/event/radtour-des-sv-crivitz/
LOCATION:Zapeler Weg / Friedhofsberg\, Zapeler Weg\, Crivitz\, Mecklenburg- Vorpommern\, 19089
CATEGORIES:Termine
END:VEVENT
BEGIN:VEVENT
DTSTART;TZID=Europe/Berlin:20260502T080000
DTEND;TZID=Europe/Berlin:20260502T170000
DTSTAMP:20260422T161320
CREATED:20260303T111354Z
LAST-MODIFIED:20260303T120023Z
UID:9931-1777708800-1777741200@www.stadt-crivitz.de
SUMMARY:Arbeitseinsatz der Schützenzunft
DESCRIPTION:Die Schützenzunft zu Crivitz 1839 e. V. lädt zum Arbeitseinsatz auf dem Vereinsgelände ein.
URL:https://www.stadt-crivitz.de/event/arbeitseinsatz/
LOCATION:Schützenvereinshaus am Sportplatz Geschwister-Scholl-Platz
CATEGORIES:Termine
END:VEVENT
BEGIN:VEVENT
DTSTART;TZID=Europe/Berlin:20260502T140000
DTEND;TZID=Europe/Berlin:20260502T140000
DTSTAMP:20260422T161320
CREATED:20260416T130220Z
LAST-MODIFIED:20260416T130220Z
UID:10202-1777730400-1777730400@www.stadt-crivitz.de
SUMMARY:Heimspiel SG Einheit Crivitz (Herren)
DESCRIPTION:Die Herrenmannschaft tritt gegen den FSV Bentwisch II in der Landesliga Mecklenburg- Vorpommern an. \nAnstoß: 14:00 Uhr\nOrt: Geschwister- Scholl- Platz \nKommt und unterstützt unsere Herren – 1 2 3 Einheit!\n-das Bürgerhaus Team-
URL:https://www.stadt-crivitz.de/event/heimspiel-sg-einheit-crivitz-herren-3/
LOCATION:Geschwister-Scholl-Platz
CATEGORIES:Termine
END:VEVENT
BEGIN:VEVENT
DTSTART;TZID=Europe/Berlin:20260502T150000
DTEND;TZID=Europe/Berlin:20260502T170000
DTSTAMP:20260422T161320
CREATED:20260422T073326Z
LAST-MODIFIED:20260422T073326Z
UID:10260-1777734000-1777741200@www.stadt-crivitz.de
SUMMARY:19. Barniner Pflanzentauschbörse
DESCRIPTION:Der Förderverein „Alte Schule“ – Barnin e. V. lädt am 02.05.2026 zur 19. Barniner Pflanzentauschbörse vor das Museum „de Dörpstuw“ in Barnin ein. \nUhrzeit: 15:00- 17:00 Uhr \nEs ist Zeit für die 19. Barniner Pflanzentauschbörse und damit wieder Gelegenheit zum Tausch von Garten- und Zimmerpflanzen.\nOb Zier- oder Nutzpflanzen\, ob in großen oder kleinen Töpfen\, Tüten oder Kisten – alle Pflanzen\, die zu viel oder zu groß geworden oder die übrig geblieben sind\, können mitgebracht und getauscht werden.\nAuch ohne „Mitbringsel“ können Pflanzen kostenlos mit nach Hause genommen werden.\nZur Beachtung: Verkäufe sind ausdrücklich nicht gestattet! \nBei Tee\, Kaffee & Kuchen lässt sich prima fachsimpeln und gemütlich beisammen sein. \nDie Veranstaltung ist kostenfrei.\nDer Verein freut sich über eine kleine Spende zur Deckung der Unkosten. \nWir wünschen viele Tauschwütige und tolle pflanzliche Schätze!\n-das Bürgerhaus Team-
URL:https://www.stadt-crivitz.de/event/19-barniner-pflanzentauschboerse/
LOCATION:De Dörpstuw\, Lindenstraße 9\, Barnin\, Mecklenburg- Vorpommern\, 19089\, Germany
CATEGORIES:Termine
END:VEVENT
BEGIN:VEVENT
DTSTART;TZID=Europe/Berlin:20260503T090000
DTEND;TZID=Europe/Berlin:20260503T170000
DTSTAMP:20260422T161320
CREATED:20260303T111530Z
LAST-MODIFIED:20260303T111530Z
UID:9933-1777798800-1777827600@www.stadt-crivitz.de
SUMMARY:Tag der offenen Tür der Schützenzunft zu Crivitz 1839 e. V.
DESCRIPTION:Die Schützenzunft zu Crivitz 1839 e. V. lädt zum Tag der offenen Tür ein.
URL:https://www.stadt-crivitz.de/event/tag-der-offenen-tuer-der-schuetzenzunft-zu-crivitz-1839-e-v/
LOCATION:Schützenvereinshaus am Sportplatz Geschwister-Scholl-Platz
CATEGORIES:Termine
END:VEVENT
BEGIN:VEVENT
DTSTART;TZID=Europe/Berlin:20260503T140000
DTEND;TZID=Europe/Berlin:20260503T140000
DTSTAMP:20260422T161320
CREATED:20260416T130407Z
LAST-MODIFIED:20260416T130407Z
UID:10204-1777816800-1777816800@www.stadt-crivitz.de
SUMMARY:Heimspiel SG Einheit Crivitz (Herren)
DESCRIPTION:Die Herrenmannschaft (2) tritt gegen den Lübzer SV II in der Kreisliga an. \nAnstoß: 14:00 Uhr\nOrt: Geschwister- Scholl- Platz \nKommt und unterstützt unsere Herren – 1 2 3 Einheit!\n-das Bürgerhaus Team-
URL:https://www.stadt-crivitz.de/event/heimspiel-sg-einheit-crivitz-herren-4/
LOCATION:Geschwister-Scholl-Platz
CATEGORIES:Termine
END:VEVENT
BEGIN:VEVENT
DTSTART;TZID=Europe/Berlin:20260505T143000
DTEND;TZID=Europe/Berlin:20260505T163000
DTSTAMP:20260422T161320
CREATED:20260303T110024Z
LAST-MODIFIED:20260303T110024Z
UID:9915-1777991400-1777998600@www.stadt-crivitz.de
SUMMARY:Kaffeeklatsch
DESCRIPTION:Die Volkssolidarität lädt zum Kaffeeklatsch ins Bürgerhaus in Crivitz ein. \nKommen Sie ins Gespräch über aktuelle\, historische\, lustige oder auch ernste Themen – ungezwungene Plauderein bei einer Tasse Kaffee oder Tee.
URL:https://www.stadt-crivitz.de/event/kaffeeklatsch-3/
LOCATION:Bürgerhaus Crivitz\, Rathausstraße 1\, Crivitz\, 19089\, Deutschland
CATEGORIES:Termine
END:VEVENT
BEGIN:VEVENT
DTSTART;TZID=Europe/Berlin:20260505T150000
DTEND;TZID=Europe/Berlin:20260505T180000
DTSTAMP:20260422T161320
CREATED:20260420T095210Z
LAST-MODIFIED:20260420T095210Z
UID:10224-1777993200-1778004000@www.stadt-crivitz.de
SUMMARY:Tag der offenen Tür im Hort Crivitz
DESCRIPTION:Die Mitarbeiter des Hortes in Crivitz laden am 05.05.2026 zum Tag der offenen Tür ein.  \nAn diesem Tag wird Ihnen die pädagogische Arbeit des Teams näher gebracht.\nSie können bei kleinen Köstlichkeiten im Erzählcafé ins Gespräch kommen und sich die Räumlichkeiten ansehen. \n15:00- 18:00 Uhr\nSchulstraße 1 in 19089 Crivitz \nDas Hortteam freut sich\, zahlreiche Interssierte\, Eltern\, Großeltern\, Familienmitglieder\, zukünftige Erstklässler & Grundschüler willkommen heißen zu dürfen!\n-Das Bürgerhaus Team-
URL:https://www.stadt-crivitz.de/event/tag-der-offenen-tuer-im-hort-crivitz/
LOCATION:Hort Crivitz\, Schulstraße 1\, Crivitz\, 19089
CATEGORIES:Termine
END:VEVENT
BEGIN:VEVENT
DTSTART;TZID=Europe/Berlin:20260505T180000
DTEND;TZID=Europe/Berlin:20260505T180000
DTSTAMP:20260422T161320
CREATED:20260413T143238Z
LAST-MODIFIED:20260413T143238Z
UID:10145-1778004000-1778004000@www.stadt-crivitz.de
SUMMARY:1. Crivitzer Musiksommer - Bläsermusik an der Friedensglocke
DESCRIPTION:Die Ev. Luth. Kirchengemeinde Crivitz lädt am 05.05.2026 um 18:00 Uhr zur Auftaktveranstaltung des 1. Crivitzer Musiksommers auf den Burgplatz in Crivitz ein.  \n„Bläsermusik an der Friedensglocke“ unter der Leitung von Martin Huss\, dem Landesposaunenwart.\nPosaunenchor Crivitz & die Uhu’s Seniorenbläser aus MV \nDer Eintritt ist frei.\nBitte nutzen Sie die öffentlichen Parkplätze weiträumig im Stadtgebiet. \nBei diesem Konzert handelt es sich um einen Ausschnitt aus einer Konzertreihe.\nFolgende weitere Konzerte finden während des 1. Crivitzer Musiksommers außerdem statt:\n06.06.2026    16:00 Uhr    Justin Willi Drews / Wendel Weniger\n19:00 Uhr    „Acoustic Session“\n04.07.2026    16:00 Uhr    KiTa’s & Chor der Grundschule / Ensemble „Gesellige Zeit“\n19:00 Uhr    „Sonoro Consort“\n08.08.2026    16:00 Uhr    „Meyn- Sound“\n19:00 Uhr    „The Aberlours“\n30.08.2026    10:00 Uhr    Friedensgottesdienst\n05.09.2026    16:00 Uhr    „Tüdderkram“\n19:00 Uhr    Shushan Gazaryan / Ashley Akita \nWir wünschen einen unvergesslichen Abend bei Bläsermusik!\n-das Bürgerhaus Team-
URL:https://www.stadt-crivitz.de/event/1-crivitzer-musiksommer-blaesermusik-an-der-friedensglocke/
LOCATION:Burgplatz\, Bleicherstraße\, Crivitz\, Mecklenburg- Vorpommern\, 19089\, Germany
CATEGORIES:Termine
END:VEVENT
BEGIN:VEVENT
DTSTART;TZID=Europe/Berlin:20260507T140000
DTEND;TZID=Europe/Berlin:20260507T160000
DTSTAMP:20260422T161320
CREATED:20260225T112746Z
LAST-MODIFIED:20260225T112746Z
UID:9837-1778162400-1778169600@www.stadt-crivitz.de
SUMMARY:Strickmarathon
DESCRIPTION:Der Heimatverein Crivitz e. V. lädt zum gemütlichen Zusammensein ein.\nBringen Sie sich Ihre Strick- Utensilien mit und verbringen Sie gemeinsam entspannte Stunden mit Handarbeit.
URL:https://www.stadt-crivitz.de/event/strickmarathon-5/
LOCATION:Bürgerhaus Crivitz\, Rathausstraße 1\, Crivitz\, 19089\, Deutschland
CATEGORIES:Termine
END:VEVENT
BEGIN:VEVENT
DTSTART;TZID=Europe/Berlin:20260508T163000
DTEND;TZID=Europe/Berlin:20260508T163000
DTSTAMP:20260422T161320
CREATED:20260410T084830Z
LAST-MODIFIED:20260410T084830Z
UID:10116-1778257800-1778257800@www.stadt-crivitz.de
SUMMARY:Mädchenfßball SG Einheit Crivitz
DESCRIPTION:Für mehr Frauen und Mädchen im Fußball soll nun auch bei der SG Einheit Crivitz gesorgt werden.  \nHierzu lädt der Verein an folgenden Terminen immer um 16:30 Uhr auf den Kunstrasenplatz des Geschwister- Scholl- Platzes in Crivitz ein:\n17.04.2026\n08.05.2026\n22.05.2026 \nUnter dem Motto „Einfach Mitmachen“ können Sie bzw. Ihr Kind…\n…Spaß am Fußball haben – ohne Druck\, einfach kicken und ausprobieren.\n…neue Freundinnen treffen.\n…an einem abwechslungsreichen Training teilnehmen.\n…Gemeinschaft erleben – zusammen stark sein & Freude am Sport erleben. \nAnmeldungen sind ab Jahrgang 2018 möglich.\nFanny 0176 23334302\nCynthia 0172 2801968 \nWir wünschen viel Freude am Ball – 1 2 3 Einheit!\n-Das Bürgerhaus Team-
URL:https://www.stadt-crivitz.de/event/maedchenfssball-sg-einheit-crivitz/
LOCATION:Kunstrasen Geschwister- Scholl- Platz\, Geschwister- Scholl- Platz\, Crivitz\, Mecklenburg- Vorpommern\, 19089
CATEGORIES:Termine
END:VEVENT
BEGIN:VEVENT
DTSTART;TZID=Europe/Berlin:20260508T190000
DTEND;TZID=Europe/Berlin:20260508T190000
DTSTAMP:20260422T161320
CREATED:20260421T072227Z
LAST-MODIFIED:20260421T072227Z
UID:10243-1778266800-1778266800@www.stadt-crivitz.de
SUMMARY:Heimspiel SG Einheit Crivitz (Herren Ü 35)
DESCRIPTION:Die Mannschaft der Herren Ü 35 tritt gegen den Severiner SV Grün- Weiß in der Herren Ü 35 Kreisoberliga an. \nAnstoß: 19:00 Uhr\nOrt: Geschwister- Scholl- Platz Kunstrasenplatz \nKommt und unterstützt unsere Spieler – 1 2 3 Einheit!\n-das Bürgerhaus Team-
URL:https://www.stadt-crivitz.de/event/heimspiel-sg-einheit-crivitz-herren-ue-35-2/
LOCATION:Kunstrasen Geschwister- Scholl- Platz\, Geschwister- Scholl- Platz\, Crivitz\, Mecklenburg- Vorpommern\, 19089
CATEGORIES:Termine
END:VEVENT
BEGIN:VEVENT
DTSTART;TZID=Europe/Berlin:20260509T090000
DTEND;TZID=Europe/Berlin:20260509T090000
DTSTAMP:20260422T161320
CREATED:20260421T073027Z
LAST-MODIFIED:20260421T073027Z
UID:10249-1778317200-1778317200@www.stadt-crivitz.de
SUMMARY:Heimspiel SG Einheit Crivitz (E- Jugend)
DESCRIPTION:Die Mannschaft der E- Jugend tritt gegen den SV Fortschritt Neustadt- Glewe in der E- Junioren Kreisoberliga an. \nAnstoß: 09:00 Uhr\nOrt: Geschwister- Scholl- Platz Kunstrasenplatz \nKommt und unterstützt unsere Kinder – 1 2 3 Einheit!\n-das Bürgerhaus Team-
URL:https://www.stadt-crivitz.de/event/heimspiel-sg-einheit-crivitz-e-jugend-2/
LOCATION:Kunstrasen Geschwister- Scholl- Platz\, Geschwister- Scholl- Platz\, Crivitz\, Mecklenburg- Vorpommern\, 19089
CATEGORIES:Termine
END:VEVENT
BEGIN:VEVENT
DTSTART;TZID=Europe/Berlin:20260509T103000
DTEND;TZID=Europe/Berlin:20260509T103000
DTSTAMP:20260422T161320
CREATED:20260421T070658Z
LAST-MODIFIED:20260421T070658Z
UID:10228-1778322600-1778322600@www.stadt-crivitz.de
SUMMARY:Heimspiel SG Einheit Crivitz (B- Jugend)
DESCRIPTION:Die Mannschaft der B- Jugend tritt gegen den Wittenburger SV in der B- Junioren Kreisoberliga an. \nAnstoß: 10:30 Uhr\nOrt: Geschwister- Scholl- Platz \nKommt und unterstützt unsere Spieler – 1 2 3 Einheit!\n-das Bürgerhaus Team-
URL:https://www.stadt-crivitz.de/event/heimspiel-sg-einheit-crivitz-b-jugend/
LOCATION:Geschwister-Scholl-Platz
CATEGORIES:Termine
END:VEVENT
BEGIN:VEVENT
DTSTART;TZID=Europe/Berlin:20260509T120000
DTEND;TZID=Europe/Berlin:20260509T120000
DTSTAMP:20260422T161320
CREATED:20260421T071238Z
LAST-MODIFIED:20260421T071238Z
UID:10234-1778328000-1778328000@www.stadt-crivitz.de
SUMMARY:Heimspiel SG Einheit Crivitz (C- Jugend)
DESCRIPTION:Die Mannschaft der C 2- Jugend tritt gegen den SV Rotation Neu Kaliß in der C- Junioren Kreisoberliga an. \nAnstoß: 12:00 Uhr\nOrt: Geschwister- Scholl- Platz Kunstrasenplatz \nKommt und unterstützt unsere Spieler – 1 2 3 Einheit!\n-das Bürgerhaus Team-
URL:https://www.stadt-crivitz.de/event/heimspiel-sg-einheit-crivitz-c-jugend-2/
LOCATION:Kunstrasen Geschwister- Scholl- Platz\, Geschwister- Scholl- Platz\, Crivitz\, Mecklenburg- Vorpommern\, 19089
CATEGORIES:Termine
END:VEVENT
BEGIN:VEVENT
DTSTART;TZID=Europe/Berlin:20260509T140000
DTEND;TZID=Europe/Berlin:20260509T160000
DTSTAMP:20260422T161320
CREATED:20260225T113030Z
LAST-MODIFIED:20260225T113030Z
UID:9839-1778335200-1778342400@www.stadt-crivitz.de
SUMMARY:Buchlesung
DESCRIPTION:Mitglied des Heimatvereins und Autorin Jutta Hinzmann stellt ihr neustes selbstgeschriebenes Buch vor.
URL:https://www.stadt-crivitz.de/event/buchlesung/
LOCATION:Bürgerhaus Crivitz\, Rathausstraße 1\, Crivitz\, 19089\, Deutschland
CATEGORIES:Termine
END:VEVENT
BEGIN:VEVENT
DTSTART;TZID=Europe/Berlin:20260510T100000
DTEND;TZID=Europe/Berlin:20260510T100000
DTSTAMP:20260422T161320
CREATED:20260416T124514Z
LAST-MODIFIED:20260416T125309Z
UID:10190-1778407200-1778407200@www.stadt-crivitz.de
SUMMARY:Heimspiel SG Einheit Crivitz (D- Jugend)
DESCRIPTION:Die Mannschaft der D3- Jugend tritt gegen die SG StraWaZa in der D- Junioren Kreisoberliga an. \nAnstoß: 10:00 Uhr\nOrt: Geschwister- Scholl- Platz Kunstrasenplatz \nKommt und unterstützt unsere Kinder – 1 2 3 Einheit!\n-das Bürgerhaus Team-
URL:https://www.stadt-crivitz.de/event/heimspiel-sg-einheit-crivitz-d-jugend-4/
LOCATION:Kunstrasen Geschwister- Scholl- Platz\, Geschwister- Scholl- Platz\, Crivitz\, Mecklenburg- Vorpommern\, 19089
CATEGORIES:Termine
END:VEVENT
BEGIN:VEVENT
DTSTART;TZID=Europe/Berlin:20260510T120000
DTEND;TZID=Europe/Berlin:20260510T120000
DTSTAMP:20260422T161320
CREATED:20260421T071408Z
LAST-MODIFIED:20260421T071408Z
UID:10236-1778414400-1778414400@www.stadt-crivitz.de
SUMMARY:Heimspiel SG Einheit Crivitz (C- Jugend)
DESCRIPTION:Die Mannschaft der C- Jugend tritt gegen die AG Aufbau Boizenburg II in der C- Junioren Kreisoberliga an. \nAnstoß: 12:00 Uhr\nOrt: Geschwister- Scholl- Platz Kunstrasenplatz \nKommt und unterstützt unsere Spieler – 1 2 3 Einheit!\n-das Bürgerhaus Team-
URL:https://www.stadt-crivitz.de/event/heimspiel-sg-einheit-crivitz-c-jugend-3/
LOCATION:Kunstrasen Geschwister- Scholl- Platz\, Geschwister- Scholl- Platz\, Crivitz\, Mecklenburg- Vorpommern\, 19089
CATEGORIES:Termine
END:VEVENT
BEGIN:VEVENT
DTSTART;TZID=Europe/Berlin:20260516T090000
DTEND;TZID=Europe/Berlin:20260516T090000
DTSTAMP:20260422T161320
CREATED:20260421T073200Z
LAST-MODIFIED:20260421T073200Z
UID:10251-1778922000-1778922000@www.stadt-crivitz.de
SUMMARY:Heimspiel SG Einheit Crivitz (E- Jugend)
DESCRIPTION:Die Mannschaft der E- Jugend tritt gegen die TuS Wittenförden in der E- Junioren Kreisoberliga an. \nAnstoß: 09:00 Uhr\nOrt: Geschwister- Scholl- Platz Kunstrasenplatz \nKommt und unterstützt unsere Kinder – 1 2 3 Einheit!\n-das Bürgerhaus Team-
URL:https://www.stadt-crivitz.de/event/heimspiel-sg-einheit-crivitz-e-jugend-3/
LOCATION:Kunstrasen Geschwister- Scholl- Platz\, Geschwister- Scholl- Platz\, Crivitz\, Mecklenburg- Vorpommern\, 19089
CATEGORIES:Termine
END:VEVENT
BEGIN:VEVENT
DTSTART;TZID=Europe/Berlin:20260516T100000
DTEND;TZID=Europe/Berlin:20260516T160000
DTSTAMP:20260422T161320
CREATED:20260414T083431Z
LAST-MODIFIED:20260414T083431Z
UID:10164-1778925600-1778947200@www.stadt-crivitz.de
SUMMARY:Tag des offenen Museums
DESCRIPTION:Der Heimatverein Crivitz e. V. lädt am 16.05.2026 von 10:00- 16:00 Uhr zum Tag des offenen Museums in das Crivitzer Bürgerhaus (Rathausstraße 1) ein.  \nErleben Sie Geschichte hautnah!\nAn diesem Tag werden die Museumsräume und die Archive für Besucher geöffnet. \nWie haben Ihre Großeltern gelebt und gearbeitet?\nWelches Spielzeug hatten die Kinder damals?\nWelche Aufgaben sind in einem Museum zu erfüllen?\nDie Mitglieder des Heimatvereins stehen Ihnen mit Antworten zur Seite.\nEiniges darf auch gern ausprobiert werden. \nDer Eintritt ist kostenfrei.\nFür das leibliche Wohl wird gesorgt sein. \nWir wünschen dem Heimatverein viele interessierte Besucher!\n-das Bürgerhaus Team-
URL:https://www.stadt-crivitz.de/event/tag-des-offenen-museums/
LOCATION:Bürgerhaus Crivitz\, Rathausstraße 1\, Crivitz\, 19089\, Deutschland
CATEGORIES:Termine
END:VEVENT
BEGIN:VEVENT
DTSTART;TZID=Europe/Berlin:20260516T103000
DTEND;TZID=Europe/Berlin:20260516T103000
DTSTAMP:20260422T161320
CREATED:20260416T124650Z
LAST-MODIFIED:20260416T124650Z
UID:10192-1778927400-1778927400@www.stadt-crivitz.de
SUMMARY:Heimspiel SG Einheit Crivitz (D- Jugend)
DESCRIPTION:Die Mannschaft der D1- Jugend tritt gegen den SV Sukow II in der D- Junioren Kreisoberliga an. \nAnstoß: 10:30 Uhr\nOrt: Geschwister- Scholl- Platz Kunstrasenplatz \nKommt und unterstützt unsere Kinder – 1 2 3 Einheit!\n-das Bürgerhaus Team-
URL:https://www.stadt-crivitz.de/event/heimspiel-sg-einheit-crivitz-d-jugend-5/
LOCATION:Kunstrasen Geschwister- Scholl- Platz\, Geschwister- Scholl- Platz\, Crivitz\, Mecklenburg- Vorpommern\, 19089
CATEGORIES:Termine
END:VEVENT
BEGIN:VEVENT
DTSTART;TZID=Europe/Berlin:20260517T120000
DTEND;TZID=Europe/Berlin:20260517T120000
DTSTAMP:20260422T161320
CREATED:20260421T071534Z
LAST-MODIFIED:20260421T071534Z
UID:10238-1779019200-1779019200@www.stadt-crivitz.de
SUMMARY:Heimspiel SG Einheit Crivitz (C- Jugend)
DESCRIPTION:Die Mannschaft der C- Jugend tritt gegen den SV Fortschritt Neustadt- Glewe in der C- Junioren Kreisoberliga an. \nAnstoß: 12:00 Uhr\nOrt: Geschwister- Scholl- Platz Kunstrasenplatz \nKommt und unterstützt unsere Spieler – 1 2 3 Einheit!\n-das Bürgerhaus Team-
URL:https://www.stadt-crivitz.de/event/heimspiel-sg-einheit-crivitz-c-jugend-4/
LOCATION:Kunstrasen Geschwister- Scholl- Platz\, Geschwister- Scholl- Platz\, Crivitz\, Mecklenburg- Vorpommern\, 19089
CATEGORIES:Termine
END:VEVENT
BEGIN:VEVENT
DTSTART;TZID=Europe/Berlin:20260517T140000
DTEND;TZID=Europe/Berlin:20260517T140000
DTSTAMP:20260422T161320
CREATED:20260416T130546Z
LAST-MODIFIED:20260416T130546Z
UID:10206-1779026400-1779026400@www.stadt-crivitz.de
SUMMARY:Heimspiel SG Einheit Crivitz (Herren)
DESCRIPTION:Die Herrenmannschaft (2) tritt gegen den SV Möllenbeck in der Kreisliga an. \nAnstoß: 14:00 Uhr\nOrt: Geschwister- Scholl- Platz \nKommt und unterstützt unsere Herren – 1 2 3 Einheit!\n-das Bürgerhaus Team-
URL:https://www.stadt-crivitz.de/event/heimspiel-sg-einheit-crivitz-herren-5/
LOCATION:Geschwister-Scholl-Platz
CATEGORIES:Termine
END:VEVENT
BEGIN:VEVENT
DTSTART;TZID=Europe/Berlin:20260521T140000
DTEND;TZID=Europe/Berlin:20260521T160000
DTSTAMP:20260422T161320
CREATED:20260225T113139Z
LAST-MODIFIED:20260225T113139Z
UID:9841-1779372000-1779379200@www.stadt-crivitz.de
SUMMARY:Strickmarathon
DESCRIPTION:Der Heimatverein Crivitz e. V. lädt zum gemütlichen Zusammensein ein.\nBringen Sie sich Ihre Strick- Utensilien mit und verbringen Sie gemeinsam entspannte Stunden mit Handarbeit.
URL:https://www.stadt-crivitz.de/event/strickmarathon-6/
LOCATION:Bürgerhaus Crivitz\, Rathausstraße 1\, Crivitz\, 19089\, Deutschland
CATEGORIES:Termine
END:VEVENT
BEGIN:VEVENT
DTSTART;TZID=Europe/Berlin:20260522T163000
DTEND;TZID=Europe/Berlin:20260522T163000
DTSTAMP:20260422T161320
CREATED:20260410T084923Z
LAST-MODIFIED:20260410T084923Z
UID:10118-1779467400-1779467400@www.stadt-crivitz.de
SUMMARY:Mädchenfußball SG Einheit Crivitz
DESCRIPTION:Für mehr Frauen und Mädchen im Fußball soll nun auch bei der SG Einheit Crivitz gesorgt werden.  \nHierzu lädt der Verein an folgenden Terminen immer um 16:30 Uhr auf den Kunstrasenplatz des Geschwister- Scholl- Platzes in Crivitz ein:\n17.04.2026\n08.05.2026\n22.05.2026 \nUnter dem Motto „Einfach Mitmachen“ können Sie bzw. Ihr Kind…\n…Spaß am Fußball haben – ohne Druck\, einfach kicken und ausprobieren.\n…neue Freundinnen treffen.\n…an einem abwechslungsreichen Training teilnehmen.\n…Gemeinschaft erleben – zusammen stark sein & Freude am Sport erleben. \nAnmeldungen sind ab Jahrgang 2018 möglich.\nFanny 0176 23334302\nCynthia 0172 2801968 \nWir wünschen viel Freude am Ball – 1 2 3 Einheit!\n-Das Bürgerhaus Team-
URL:https://www.stadt-crivitz.de/event/maedchenfussball-sg-einheit-crivitz-2/
LOCATION:Kunstrasen Geschwister- Scholl- Platz\, Geschwister- Scholl- Platz\, Crivitz\, Mecklenburg- Vorpommern\, 19089
CATEGORIES:Termine
END:VEVENT
BEGIN:VEVENT
DTSTART;TZID=Europe/Berlin:20260528T140000
DTEND;TZID=Europe/Berlin:20260528T140000
DTSTAMP:20260422T161320
CREATED:20260414T063521Z
LAST-MODIFIED:20260414T063521Z
UID:10151-1779976800-1779976800@www.stadt-crivitz.de
SUMMARY:Vortrag "Darmgesundheit"
DESCRIPTION:Am 28.05.2026 lädt der Senioren- und Behindertenbeirat um 14:00 Uhr in das Crivitzer Bürgerhaus (Rathausstraße 1) ein.  \nThema des Vortrages ist die Darmgesundheit – Wissenswertes\, Tipps & Tricks rund um ein gutes Bauchgefühl. \nUnser Darm gewinnt im Rahmen der Stärkung unserer Gesundheit zu Recht immer größere Aufmerksamkeit.\nSeine Fähigkeiten gehen dabei weit darüber hinaus\, als nur eine gute Verdauung zu leisten.\nGemeinsam treten Sie eine spannende Reise in den Darm an\, schauen\, welche talentierten Mitbewohner im Verborgenen geniale Leistung erbringen und können alltagstaugliche Tipps für unser Darmwohlbefinden mitnehmen. \nDie Referentin Doreen Westphal steht Ihnen mit Information und für Ihre Fragen bei Kaffee & Kuchen zur Verfügung. \nWir wünschen Ihnen viele interessante Aha- Momente!\n-das Bürgerhaus Team-
URL:https://www.stadt-crivitz.de/event/vortrag-darmgesundheit/
LOCATION:Bürgerhaus Crivitz\, Rathausstraße 1\, Crivitz\, 19089\, Deutschland
CATEGORIES:Termine
ORGANIZER;CN="Senioren- und Behindertenbeirat Crivitz":MAILTO:crivitz@stadt-crivitz.de
END:VEVENT
BEGIN:VEVENT
DTSTART;TZID=Europe/Berlin:20260528T140000
DTEND;TZID=Europe/Berlin:20260528T160000
DTSTAMP:20260422T161320
CREATED:20260302T122043Z
LAST-MODIFIED:20260302T122940Z
UID:9893-1779976800-1779984000@www.stadt-crivitz.de
SUMMARY:Informationsveranstaltung des Senioren- und Behindertenbeirates
DESCRIPTION:Thema: Darmgesundheit \n-Einzelheiten folgen-
URL:https://www.stadt-crivitz.de/event/infoveranstaltung-des-senioren-und-behindertenbeirates/
LOCATION:Bürgerhaus Crivitz\, Rathausstraße 1\, Crivitz\, 19089\, Deutschland
CATEGORIES:Termine
ORGANIZER;CN="Senioren- und Behindertenbeirat Crivitz":MAILTO:crivitz@stadt-crivitz.de
END:VEVENT
END:VCALENDAR