BEGIN:VCALENDAR
VERSION:2.0
PRODID:-//Crivitz - ECPv6.15.20//NONSGML v1.0//EN
CALSCALE:GREGORIAN
METHOD:PUBLISH
X-ORIGINAL-URL:https://www.stadt-crivitz.de
X-WR-CALDESC:Veranstaltungen für Crivitz
REFRESH-INTERVAL;VALUE=DURATION:PT1H
X-Robots-Tag:noindex
X-PUBLISHED-TTL:PT1H
BEGIN:VTIMEZONE
TZID:Europe/Berlin
BEGIN:DAYLIGHT
TZOFFSETFROM:+0100
TZOFFSETTO:+0200
TZNAME:CEST
DTSTART:20250330T010000
END:DAYLIGHT
BEGIN:STANDARD
TZOFFSETFROM:+0200
TZOFFSETTO:+0100
TZNAME:CET
DTSTART:20251026T010000
END:STANDARD
BEGIN:DAYLIGHT
TZOFFSETFROM:+0100
TZOFFSETTO:+0200
TZNAME:CEST
DTSTART:20260329T010000
END:DAYLIGHT
BEGIN:STANDARD
TZOFFSETFROM:+0200
TZOFFSETTO:+0100
TZNAME:CET
DTSTART:20261025T010000
END:STANDARD
BEGIN:DAYLIGHT
TZOFFSETFROM:+0100
TZOFFSETTO:+0200
TZNAME:CEST
DTSTART:20270328T010000
END:DAYLIGHT
BEGIN:STANDARD
TZOFFSETFROM:+0200
TZOFFSETTO:+0100
TZNAME:CET
DTSTART:20271031T010000
END:STANDARD
END:VTIMEZONE
BEGIN:VEVENT
DTSTART;TZID=Europe/Berlin:20260420T160000
DTEND;TZID=Europe/Berlin:20260420T200000
DTSTAMP:20260422T155559
CREATED:20260409T131519Z
LAST-MODIFIED:20260409T131519Z
UID:10105-1776700800-1776715200@www.stadt-crivitz.de
SUMMARY:Informationsveranstaltung Stadt Crivitz & WEMAG Schwerin
DESCRIPTION:Die Stadt Crivitz und die WEMAG Schwerin laden am 20.04.2026 um 16:00 Uhr zu einer Informationsveranstaltung in die Aula der Regionalen Schule in Crivitz (Straße der Freundschaft 19 a) ein.  \nInformieren Sie sich über aktuelle und geplante Wärme- und Enerhgieprojekte in unserer Stadt und kommen Sie ins Gespräch.\nGemeinsam werden Ihnen das mögliche Windprojekt „Crivitz West“ sowie das Wärmeversorgungsprojekt in der Crivitzer Neustadt vorgestellt.\nNutzen Sie die Gelegenheit\, mehr über diese Vorhaben zu erfahren und Ihre Fragen direkt an die beteiligten Fachleute zu richten. \nAn verschiedenen Informationsständen stehen Ihnen Planerinnen & Planer sowie Gutachter für persönliche Gespräche zur Verfügung.\nMögliche Themen:\n– städtebauliche Entwicklung\n– zukünftige Wärmeversorgung\n– Beteiligungsmöglichkeiten für Bürgerinnen & Bürger \nDamit ausreichend Raum für den Austausch bleibt\, erfolgt der Anlass ab 16:00 Uhr im 15- Minuten- Takt.\nKommen Sie gern zu einem Zeitpunkt\, der für Sie am besten passt und bleiben Sie so lange\, wie Sie möchten. \nDa der Zugang zur Aula leider nicht barrierefrei möglich ist\, werden Sie vor Ort unterstützt.\nSprechen Sie die Mitarbeiter bei Bedarf gern an. \nWir wünschen Ihnen viele interessante Gespräche und einen gemeinsamen Blick in die Energiezukunft von Crivitz!\n-Ihr Bürgerhaus Team-
URL:https://www.stadt-crivitz.de/event/informationsveranstaltung-stadt-crivitz-wemag-schwerin/
LOCATION:Regionale Schule Crivitz\, Straße der Freundschaft 19 A\, Crivitz\, 19089\, Deutschland
CATEGORIES:Termine
END:VEVENT
BEGIN:VEVENT
DTSTART;TZID=Europe/Berlin:20260419T140000
DTEND;TZID=Europe/Berlin:20260419T140000
DTSTAMP:20260422T155559
CREATED:20260416T125924Z
LAST-MODIFIED:20260416T125924Z
UID:10200-1776607200-1776607200@www.stadt-crivitz.de
SUMMARY:Heimspiel SG Einheit Crivitz (Herren)
DESCRIPTION:Die Herrenmannschaft (2) tritt gegen den SSV Blau- Weiß Dobbertin in der Kreisliga an. \nAnstoß: 14:00 Uhr\nOrt: Geschwister- Scholl- Platz \nKommt und unterstützt unsere Herren – 1 2 3 Einheit!\n-das Bürgerhaus Team-
URL:https://www.stadt-crivitz.de/event/heimspiel-sg-einheit-crivitz-herren-2/
LOCATION:Geschwister-Scholl-Platz
CATEGORIES:Termine
END:VEVENT
BEGIN:VEVENT
DTSTART;TZID=Europe/Berlin:20260419T100000
DTEND;TZID=Europe/Berlin:20260419T100000
DTSTAMP:20260422T155559
CREATED:20260416T123834Z
LAST-MODIFIED:20260416T123834Z
UID:10182-1776592800-1776592800@www.stadt-crivitz.de
SUMMARY:Heimspiel SG Einheit Crivitz (D- Jugend)
DESCRIPTION:Die Mannschaft der D3- Jugend tritt gegen die D2- Jugend in der D- Junioren Kreisoberliga an. \nAnstoß: 10:00 Uhr\nOrt: Geschwister- Scholl- Platz Kunstrasenplatz \nKommt und unterstützt unsere Kinder – 1 2 3 Einheit!\n-das Bürgerhaus Team-
URL:https://www.stadt-crivitz.de/event/heimspiel-sg-einheit-crivitz-d-jugend-2/
LOCATION:Kunstrasen Geschwister- Scholl- Platz\, Geschwister- Scholl- Platz\, Crivitz\, Mecklenburg- Vorpommern\, 19089
CATEGORIES:Termine
END:VEVENT
BEGIN:VEVENT
DTSTART;TZID=Europe/Berlin:20260418T153000
DTEND;TZID=Europe/Berlin:20260418T190000
DTSTAMP:20260422T155559
CREATED:20260318T100731Z
LAST-MODIFIED:20260318T100731Z
UID:10029-1776526200-1776538800@www.stadt-crivitz.de
SUMMARY:Börse rund um die Frau
DESCRIPTION:Der Kultur- und Sportverein Wessin e. V. lädt am 18.04.2026 in das Kulturhaus in Wessin zur Börse Rund um die Frau ein.\n\nBeginn: 15:30 Uhr\nEnde: 19:00 Uhr \nBei jedem Einkauf über 25\,00 € erwartet Euch ein Glas Sekt gratis.\nKleine Snacks werden gegen einen Obolus angeboten. \nVorbei kommen – in stilvoller Atmosphäre stöbern! \nIhr möchtet Euren Kleiderschrank aussortieren?\nMeldet Euch bis zum 21.03.2026 per Telefon oder WhatsApp an (0162 2320982). \nWir wünschen viel Freude mit den neuen Errungenschaften!\n-Euer Bürgerhaus Team-
URL:https://www.stadt-crivitz.de/event/boerse-rund-um-die-frau/
LOCATION:Kulturhaus Wessin\, Am Kulturhaus\, Wessin\, 19089\, Deutschland
CATEGORIES:Termine
END:VEVENT
BEGIN:VEVENT
DTSTART;TZID=Europe/Berlin:20260418T150000
DTEND;TZID=Europe/Berlin:20260418T150000
DTSTAMP:20260422T155559
CREATED:20260416T125637Z
LAST-MODIFIED:20260416T130023Z
UID:10198-1776524400-1776524400@www.stadt-crivitz.de
SUMMARY:Heimspiel SG Einheit Crivitz Herren
DESCRIPTION:Die Herrenmannschaft tritt gegen die SG 03 Ludwigslust / Grabow in der Landesliga Mecklenburg- Vorpommern an. \nAnstoß: 15:00 Uhr\nOrt: Geschwister- Scholl- Platz \nKommt und unterstützt unsere Herren – 1 2 3 Einheit!\n-das Bürgerhaus Team-
URL:https://www.stadt-crivitz.de/event/heimspiel-sg-einheit-crivitz-herren/
LOCATION:Geschwister-Scholl-Platz
CATEGORIES:Termine
END:VEVENT
BEGIN:VEVENT
DTSTART;TZID=Europe/Berlin:20260418T103000
DTEND;TZID=Europe/Berlin:20260418T103000
DTSTAMP:20260422T155559
CREATED:20260416T123558Z
LAST-MODIFIED:20260416T124149Z
UID:10180-1776508200-1776508200@www.stadt-crivitz.de
SUMMARY:Heimspiel SG Einheit Crivitz (D- Jugend)
DESCRIPTION:Die Mannschaft der D1- Jugend tritt gegen den BSG Empor Grabow in der D- Junioren Kreisoberliga an. \nAnstoß: 10:30 Uhr\nOrt: Geschwister- Scholl- Platz Kunstrasenplatz \nKommt und unterstützt unsere Kinder – 1 2 3 Einheit!\n-das Bürgerhaus Team-
URL:https://www.stadt-crivitz.de/event/heimspiel-sg-einheit-crivitz-d-jugend/
LOCATION:Kunstrasen Geschwister- Scholl- Platz\, Geschwister- Scholl- Platz\, Crivitz\, Mecklenburg- Vorpommern\, 19089
CATEGORIES:Termine
END:VEVENT
BEGIN:VEVENT
DTSTART;TZID=Europe/Berlin:20260418T100000
DTEND;TZID=Europe/Berlin:20260418T140000
DTSTAMP:20260422T155559
CREATED:20260413T131707Z
LAST-MODIFIED:20260413T131707Z
UID:10137-1776506400-1776520800@www.stadt-crivitz.de
SUMMARY:Sparkassen 4 Goals Cup SG Einheit Crivitz (F2 Jungend)
DESCRIPTION:Die F2- Jugend (Jahrgang 2018) der SG Einheit Crivitz lädt am 18.04.2026 um 10:00 Uhr auf den Rasenplatz des Geschwister- Scholl- Platzes zum Sparkassen 4- Goals Cup ein.  \n10:00- 14:00 Uhr \nEin besonderes Highlight neben erstklassigem Kinderfußball: Erlebt Champions- League- Glanz in Crivitz!\nTrefft René Tretschock live vor Ort und sichert Euch Fotos\, Autogramme und exklusive Autogrammkarten.\nRené Tretschock gewann u. a. 1997 mit Borussia Dortmund die Champions League. \nDer Eintritt ist frei.\nFür das leibliche Wohl wird gesorgt sein. \nFür die unter Euch\, die nicht genug vom Fußball bekommen können: Die F1 Jugend (Jahrgang 2017) hat vorab auf dem Kunstrasenplatz des Geschwister- Scholl- Platzes ein Heimspiel gegen die SG StraWaZa ab 9:00 Uhr. \nWir wünschen allen Mannschaften maximale Erfolge & den Zuschauern spannende Wettkämpfe!\n-das Bürgerhaus Team-
URL:https://www.stadt-crivitz.de/event/sparkassen-4-goals-cup-sg-einheit-crivitz-f2-jungend/
LOCATION:Kunstrasen Geschwister- Scholl- Platz\, Geschwister- Scholl- Platz\, Crivitz\, Mecklenburg- Vorpommern\, 19089
CATEGORIES:Termine
END:VEVENT
BEGIN:VEVENT
DTSTART;TZID=Europe/Berlin:20260418T090000
DTEND;TZID=Europe/Berlin:20260418T100000
DTSTAMP:20260422T155559
CREATED:20260413T131549Z
LAST-MODIFIED:20260413T131549Z
UID:10135-1776502800-1776506400@www.stadt-crivitz.de
SUMMARY:Heimspiel SG Einheit Crivitz (F1- Jugend)
DESCRIPTION:Anpfiff 9:00 Uhr\nKunstrasenplatz des Geschwister- Scholl- Platzes \nSG Einheit Crivitz – SG StraWaZa \nWir wünschen spannende Zweikämpfe & maximale Erfolge! \n-das Bürgerhaus Team-
URL:https://www.stadt-crivitz.de/event/heimspiel-sg-einheit-crivitz-f1-jugend/
LOCATION:Kunstrasen Geschwister- Scholl- Platz\, Geschwister- Scholl- Platz\, Crivitz\, Mecklenburg- Vorpommern\, 19089
CATEGORIES:Termine
END:VEVENT
BEGIN:VEVENT
DTSTART;TZID=Europe/Berlin:20260418T090000
DTEND;TZID=Europe/Berlin:20260418T090000
DTSTAMP:20260422T155559
CREATED:20260416T121314Z
LAST-MODIFIED:20260416T121314Z
UID:10172-1776502800-1776502800@www.stadt-crivitz.de
SUMMARY:Heimspiel SG Einheit Crivitz (F- Jugend)
DESCRIPTION:Die Mannschaft der F2- Jugend tritt gegen den Severiner SV Grün- Weiß an. \nAnstoß: 9:00 Uhr\nOrt: Geschwister- Scholl- Platz Kunstrasenplatz \nKommt und unterstützt unsere Kinder – 1 2 3 Einheit!\n-das Bürgerhaus Team-
URL:https://www.stadt-crivitz.de/event/heimspiel-sg-einheit-crivitz-f-jugend/
LOCATION:Kunstrasen Geschwister- Scholl- Platz\, Geschwister- Scholl- Platz\, Crivitz\, Mecklenburg- Vorpommern\, 19089
CATEGORIES:Termine
END:VEVENT
BEGIN:VEVENT
DTSTART;TZID=Europe/Berlin:20260417T163000
DTEND;TZID=Europe/Berlin:20260417T163000
DTSTAMP:20260422T155559
CREATED:20260410T084545Z
LAST-MODIFIED:20260410T084556Z
UID:10111-1776443400-1776443400@www.stadt-crivitz.de
SUMMARY:Mädchenfußball SG Einheit Crivitz
DESCRIPTION:Für mehr Frauen und Mädchen im Fußball soll nun auch bei der SG Einheit Crivitz gesorgt werden.  \nHierzu lädt der Verein an folgenden Terminen immer um 16:30 Uhr auf den Kunstrasenplatz des Geschwister- Scholl- Platzes in Crivitz ein:\n17.04.2026\n08.05.2026\n22.05.2026 \nUnter dem Motto „Einfach Mitmachen“ können Sie bzw. Ihr Kind…\n…Spaß am Fußball haben – ohne Druck\, einfach kicken und ausprobieren.\n…neue Freundinnen treffen.\n…an einem abwechslungsreichen Training teilnehmen.\n…Gemeinschaft erleben – zusammen stark sein & Freude am Sport erleben. \nAnmeldungen sind ab Jahrgang 2018 möglich.\nFanny 0176 23334302\nCynthia 0172 2801968 \nWir wünschen viel Freude am Ball – 1 2 3 Einheit!\n-Das Bürgerhaus Team-
URL:https://www.stadt-crivitz.de/event/maedchenfussball-sg-einheit-crivitz/
LOCATION:Kunstrasen Geschwister- Scholl- Platz\, Geschwister- Scholl- Platz\, Crivitz\, Mecklenburg- Vorpommern\, 19089
CATEGORIES:Termine
END:VEVENT
BEGIN:VEVENT
DTSTART;TZID=Europe/Berlin:20260416T140000
DTEND;TZID=Europe/Berlin:20260416T160000
DTSTAMP:20260422T155559
CREATED:20260225T112341Z
LAST-MODIFIED:20260225T112341Z
UID:9833-1776348000-1776355200@www.stadt-crivitz.de
SUMMARY:Strickmarathon
DESCRIPTION:Der Heimatverein Crivitz e. V. lädt zum gemütlichen Zusammensein ein.\nBringen Sie sich Ihre Strick- Utensilien mit und verbringen Sie gemeinsam entspannte Stunden mit Handarbeit.
URL:https://www.stadt-crivitz.de/event/strickmarathon-4/
LOCATION:Bürgerhaus Crivitz\, Rathausstraße 1\, Crivitz\, 19089\, Deutschland
CATEGORIES:Termine
END:VEVENT
BEGIN:VEVENT
DTSTART;TZID=Europe/Berlin:20260414T190000
DTEND;TZID=Europe/Berlin:20260414T203000
DTSTAMP:20260422T155559
CREATED:20260319T095841Z
LAST-MODIFIED:20260323T072907Z
UID:10047-1776193200-1776198600@www.stadt-crivitz.de
SUMMARY:Anlaufberatung 777 Jahre Crivitz
DESCRIPTION:Am 14.04.2026 um 18:00 Uhr trifft sich das Organisationskomitee für die Anlaufbesprechung zur 777 Jahrfeier im Jahr 2028. \nDu bist kreativ?\nDu fasst gern mit an?\nDu möchtest uns Deine Ideen vorstellen?\nDu möchtest mit anpacken\, damit wir ein unvergessliches Fest feiern können? \nDann sei dabei und mach mit! \nMelde dich gern zu unserem Treffen im Bürgerhaus in Crivitz an.\n03863 555983 / 015259140026 / crivitz@stadt-crivitz.de \nWir freuen uns auf Dich & Deine Vorschläge!\n-Dein Bürgerhaus Team-
URL:https://www.stadt-crivitz.de/event/anlaufberatung-777-jahre-crivitz/
LOCATION:Bürgerhaus Crivitz\, Rathausstraße 1\, Crivitz\, 19089\, Deutschland
CATEGORIES:Termine
END:VEVENT
BEGIN:VEVENT
DTSTART;TZID=Europe/Berlin:20260412T000000
DTEND;TZID=Europe/Berlin:20260412T000000
DTSTAMP:20260422T155559
CREATED:20260410T091218Z
LAST-MODIFIED:20260410T091218Z
UID:10124-1775952000-1775952000@www.stadt-crivitz.de
SUMMARY:Frühjahrsprüfung  des Hundesportvereins HSV Crivitz- Eichholz e. V.
DESCRIPTION:Am 12.04.2026 lädt der Hundesportverein HSV Crivitz- Eichholz e. V. zur Frühjahrsprüfung ein.  \nLeistungsrichterin: Maria Domagalski \nFür das leibliche Wohl wird gesorgt sein. \nWir wünschen maximale Erfolge bei der Prüfung.\n-Das Bürgerhaus Team-
URL:https://www.stadt-crivitz.de/event/fruehjahrspruefung-des-hundesportvereins-hsv-crivitz-eichholz-e-v/
LOCATION:Mecklenburg- Vorpommern
CATEGORIES:Termine
END:VEVENT
BEGIN:VEVENT
DTSTART;TZID=Europe/Berlin:20260411T170000
DTEND;TZID=Europe/Berlin:20260411T200000
DTSTAMP:20260422T155559
CREATED:20260312T073058Z
LAST-MODIFIED:20260312T073058Z
UID:10014-1775926800-1775937600@www.stadt-crivitz.de
SUMMARY:Basthorster Konzerte
DESCRIPTION:Der Kunst- und Naturverein Basthorst e. V. lädt am 11.04.2026 um 17:00 Uhr in die Kirche in Kladow zum Konzert ein.  \nOnyx Trio – Claudia Meures\, Martina Weidner & Frieder Rohn \nSaxophon\, Viola & Cello \nJ. S. Bach\nGoldberg Variationen & Erzählungen aus „Von Pinnow nach Pyrgos \nDer Eintritt ist auf Spendenbasis.\nDas Konzert ist Bestandteil der Reihe „Dorfkirche mon amour“. \nWir wünschen einen stimmungsvollen Abend mit tollem Programm!\n-Ihr Bürgerhaus Team-
URL:https://www.stadt-crivitz.de/event/basthorster-konzerte/
LOCATION:Kirche Kladow\, Kladow\, 19089
CATEGORIES:Termine
END:VEVENT
BEGIN:VEVENT
DTSTART;TZID=Europe/Berlin:20260411T140000
DTEND;TZID=Europe/Berlin:20260411T160000
DTSTAMP:20260422T155559
CREATED:20260225T112128Z
LAST-MODIFIED:20260225T112128Z
UID:9831-1775916000-1775923200@www.stadt-crivitz.de
SUMMARY:Oster Kaffeeklatsch
DESCRIPTION:Der Heimatverein Crivitz e. V. lädt zum gemütlichen Zusammensein ein.\nTauschen Sie bei Kaffee & Kuchen Osterbräuche in gemütlicher Athosphäre aus.
URL:https://www.stadt-crivitz.de/event/oster-kaffeeklatsch/
LOCATION:Bürgerhaus Crivitz\, Rathausstraße 1\, Crivitz\, 19089\, Deutschland
CATEGORIES:Termine
END:VEVENT
BEGIN:VEVENT
DTSTART;TZID=Europe/Berlin:20260407T143000
DTEND;TZID=Europe/Berlin:20260407T163000
DTSTAMP:20260422T155559
CREATED:20260303T105926Z
LAST-MODIFIED:20260303T105926Z
UID:9913-1775572200-1775579400@www.stadt-crivitz.de
SUMMARY:Kaffeeklatsch
DESCRIPTION:Die Volkssolidarität lädt zum Kaffeeklatsch ins Bürgerhaus in Crivitz ein. \nKommen Sie ins Gespräch über aktuelle\, historische\, lustige oder auch ernste Themen – ungezwungene Plauderein bei einer Tasse Kaffee oder Tee.
URL:https://www.stadt-crivitz.de/event/kaffeeklatsch-2/
LOCATION:Bürgerhaus Crivitz\, Rathausstraße 1\, Crivitz\, 19089\, Deutschland
CATEGORIES:Termine
END:VEVENT
BEGIN:VEVENT
DTSTART;TZID=Europe/Berlin:20260406T110000
DTEND;TZID=Europe/Berlin:20260406T133000
DTSTAMP:20260422T155559
CREATED:20260324T141140Z
LAST-MODIFIED:20260324T141140Z
UID:10082-1775473200-1775482200@www.stadt-crivitz.de
SUMMARY:Circus Ascona
DESCRIPTION:Vorstellungsbeginn 15:30 Uhr\nFamilientag: Erwachsene zahlen die Kinderpreise
URL:https://www.stadt-crivitz.de/event/circus-ascona-5/
LOCATION:Festwiese am See
CATEGORIES:Termine
END:VEVENT
BEGIN:VEVENT
DTSTART;TZID=Europe/Berlin:20260405T153000
DTEND;TZID=Europe/Berlin:20260405T180000
DTSTAMP:20260422T155559
CREATED:20260325T071240Z
LAST-MODIFIED:20260325T071240Z
UID:10084-1775403000-1775412000@www.stadt-crivitz.de
SUMMARY:Circus Ascona
DESCRIPTION:Vorstellungsbeginn 15:30 Uhr\nFamilientag: Erwachsene zahlen die Kinderpreise
URL:https://www.stadt-crivitz.de/event/circus-ascona-2/
LOCATION:Festwiese am See
CATEGORIES:Termine
END:VEVENT
BEGIN:VEVENT
DTSTART;TZID=Europe/Berlin:20260404T180000
DTEND;TZID=Europe/Berlin:20260404T180000
DTSTAMP:20260422T155559
CREATED:20260325T132549Z
LAST-MODIFIED:20260325T132549Z
UID:10094-1775325600-1775325600@www.stadt-crivitz.de
SUMMARY:Osterfeuer Kladow
DESCRIPTION:Beginn 18:00 Uhr\nauf dem Dorfplatz in Kladow \nFür das leibliche Wohl wird gesorgt sein. \nWir wünschen allen einen geselligen Abend!\n-Ihr Bürgerhaus Team-
URL:https://www.stadt-crivitz.de/event/osterfeuer-kladow/
LOCATION:Dorfplatz Kladow\, Kladow\, Mecklenburg- Vorpommern\, 19089\, Germany
CATEGORIES:Termine
END:VEVENT
BEGIN:VEVENT
DTSTART;TZID=Europe/Berlin:20260404T110000
DTEND;TZID=Europe/Berlin:20260404T133000
DTSTAMP:20260422T155559
CREATED:20260324T141036Z
LAST-MODIFIED:20260324T141036Z
UID:10080-1775300400-1775309400@www.stadt-crivitz.de
SUMMARY:Circus Ascona
DESCRIPTION:Vorstellungsbeginn 15:30 Uhr\nFamilientag: Erwachsene zahlen die Kinderpreise
URL:https://www.stadt-crivitz.de/event/circus-ascona-4/
LOCATION:Festwiese am See
CATEGORIES:Termine
END:VEVENT
BEGIN:VEVENT
DTSTART;TZID=Europe/Berlin:20260403T190000
DTEND;TZID=Europe/Berlin:20260403T190000
DTSTAMP:20260422T155559
CREATED:20260318T121052Z
LAST-MODIFIED:20260318T121052Z
UID:10039-1775242800-1775242800@www.stadt-crivitz.de
SUMMARY:Johannespassion - Lesung und Musik
DESCRIPTION:Der Kunst- und Naturverein Basthorst e. V. und die Ev. Luth. Kirchengemeinde Crivitz laden am 03.04.2026 um 19:00 Uhr in die Crivitzer Stadtkirche ein.  \nJohannespassion – in Lesung und Musik von J. S. Bach \nProjektchor unter der Leitung von Andreas Just\nLesung durch Gerda Voss\nInstrumentalensemble von Claudia Meures (Saxophon)\, Hartmut Juch (Viola)\, Wolfgang Schulz (Violoncello) & Frieder Rohn (Violoncello) \nDer Eintritt ist frei – um eine Spende wird gebeten. \nWir wünschen Ihnen eine schöne Zeit!\n-Ihr Bürgerhaus- Team-
URL:https://www.stadt-crivitz.de/event/johannespassion-lesung-und-musik/
LOCATION:ev.-luth. Stadtkirche zu Crivitz\, Kirchenstraße 2\, Crivitz\, 19089\, Deutschland
CATEGORIES:Termine
END:VEVENT
BEGIN:VEVENT
DTSTART;TZID=Europe/Berlin:20260403T170000
DTEND;TZID=Europe/Berlin:20260403T193000
DTSTAMP:20260422T155559
CREATED:20260324T140933Z
LAST-MODIFIED:20260324T140933Z
UID:10078-1775235600-1775244600@www.stadt-crivitz.de
SUMMARY:Circus Ascona
DESCRIPTION:Vorstellungsbeginn 15:30 Uhr
URL:https://www.stadt-crivitz.de/event/circus-ascona-3/
LOCATION:Festwiese am See
CATEGORIES:Termine
END:VEVENT
BEGIN:VEVENT
DTSTART;TZID=Europe/Berlin:20260402T190000
DTEND;TZID=Europe/Berlin:20260402T190000
DTSTAMP:20260422T155559
CREATED:20260318T105956Z
LAST-MODIFIED:20260318T110436Z
UID:10031-1775156400-1775156400@www.stadt-crivitz.de
SUMMARY:Osterfeuer in Wessin
DESCRIPTION:Der Förderverein der Freiwilligen Feuerwehr OT Wessin e. V. lädt am 02.04.2026 um 19:00 Uhr auf die Festwiese in Wessin zum Osterfeuer ein. \nmit XXL Feuerschale \nFür das leibliche Wohl wird gesorgt sein. \nWr wünschen einen vergnüglichen Abend!\n-Euer Bürgerhaus Team-
URL:https://www.stadt-crivitz.de/event/osterfeuer-in-wessin-02-04-2026/
LOCATION:Festwiese Wessin
CATEGORIES:Termine
END:VEVENT
BEGIN:VEVENT
DTSTART;TZID=Europe/Berlin:20260402T140000
DTEND;TZID=Europe/Berlin:20260402T160000
DTSTAMP:20260422T155559
CREATED:20260225T111808Z
LAST-MODIFIED:20260225T111808Z
UID:9829-1775138400-1775145600@www.stadt-crivitz.de
SUMMARY:Strickmarathon
DESCRIPTION:Der Heimatverein Crivitz e. V. lädt zum gemütlichen Zusammensein ein.\nBringen Sie sich Ihre Strick- Utensilien mit und verbringen Sie gemeinsam entspannte Stunden mit Handarbeit.
URL:https://www.stadt-crivitz.de/event/strickmarathon-3/
LOCATION:Bürgerhaus Crivitz\, Rathausstraße 1\, Crivitz\, 19089\, Deutschland
CATEGORIES:Termine
END:VEVENT
BEGIN:VEVENT
DTSTART;TZID=Europe/Berlin:20260328T170000
DTEND;TZID=Europe/Berlin:20260328T183000
DTSTAMP:20260422T155559
CREATED:20260304T140012Z
LAST-MODIFIED:20260304T140012Z
UID:9967-1774717200-1774722600@www.stadt-crivitz.de
SUMMARY:Historischer Stadtspaziergang
DESCRIPTION:Am 28.03.2026 findet der nächste Historische Stadtspaziergang statt. \n \nHier bietet sich Ihnen die einzigartige Gelegenheit\, in die Vergangenheit einzutauchen und Crivitz von einer neuen Seite zu entdecken.\nUnser Stadtführer\, Andreas Rüß\, wird Sie durch die Straßen und Plätze unserer Stadt führen und Ihnen dabei faszinierende Geschichten und Anekdoten aus vergangenen Zeiten erzählen.\nDer Stadtspaziergang startet um 17:00 Uhr am Bürgerhaus und dauert etwa 1\,5 Stunden.\nEs ist keine Anmeldung erforderlich\, Sie können einfach zum Treffpunkt am Bürgerhaus kommen und sich dem Spaziergang anschließen.\nWir freuen uns darauf\, Sie beim historischen Stadtspaziergang mit Andreas begrüßen zu dürfen. \nSicher wird Andreas auch in diesem Monat wieder etwas ganz Besonderes für uns bereit halten und uns überraschen!\n-Ihr Bürgerhaus Team-
URL:https://www.stadt-crivitz.de/event/historischer-stadtspaziergang-3/
LOCATION:Bürgerhaus Crivitz\, Rathausstraße 1\, Crivitz\, 19089\, Deutschland
CATEGORIES:Termine
END:VEVENT
BEGIN:VEVENT
DTSTART;TZID=Europe/Berlin:20260328T140000
DTEND;TZID=Europe/Berlin:20260328T160000
DTSTAMP:20260422T155559
CREATED:20260225T111555Z
LAST-MODIFIED:20260225T111555Z
UID:9827-1774706400-1774713600@www.stadt-crivitz.de
SUMMARY:Plattsnacker- Nachmiddag
DESCRIPTION:Der Heimatverein Crivitz e. V. lädt zum gemütlichen Zusammensein ein.Tauschen Sie kleine Gedichte und Geschichten aus und singen Sie gemeinsam – selbstverständlich auf Platt!\nFür Kaffee & Kuchen wird gesorgt sein.
URL:https://www.stadt-crivitz.de/event/plattsnacker-nachmiddag/
LOCATION:Bürgerhaus Crivitz\, Rathausstraße 1\, Crivitz\, 19089\, Deutschland
CATEGORIES:Termine
END:VEVENT
BEGIN:VEVENT
DTSTART;TZID=Europe/Berlin:20260328T133000
DTEND;TZID=Europe/Berlin:20260328T160000
DTSTAMP:20260422T155559
CREATED:20260317T131702Z
LAST-MODIFIED:20260317T131702Z
UID:10021-1774704600-1774713600@www.stadt-crivitz.de
SUMMARY:Kinderkleiderbörse
DESCRIPTION:Der KSV Kultur- und Sportverein Wessin e. V. lädt am 28.03.2026 um 13:30 Uhr zur Kinderkleiderbörse ein. \n\nFreut euch auf:– schöne Kinderkleidung– tolles Spielzeug\n– Kaffee & Kuchen\nUnd alles zu richtig guten Preisen! \nWir wünschen viel Freude beim Stöbern und Feilschen!\n-Euer Bürgerhaus Team-
URL:https://www.stadt-crivitz.de/event/kinderkleiderboerse/
LOCATION:Kulturhaus Wessin\, Am Kulturhaus\, Wessin\, 19089\, Deutschland
CATEGORIES:Termine
END:VEVENT
BEGIN:VEVENT
DTSTART;TZID=Europe/Berlin:20260328T090000
DTEND;TZID=Europe/Berlin:20260328T120000
DTSTAMP:20260422T155559
CREATED:20260304T134536Z
LAST-MODIFIED:20260304T134536Z
UID:9962-1774688400-1774699200@www.stadt-crivitz.de
SUMMARY:Frühjahrsputz in Crivitz
DESCRIPTION:Am 28.03.2026 laden die Bürgermeisterin und der Umweltausschuss von 9:00- 11:30 Uhr zum Frühjahrsputz in Crivitz ein.  \nerforderliche Arbeiten:\n-Unrat sammeln\, Sand aufschaufeln\, überhängende Sträucher zurückschneiden auf allen Spielplätzen\n-Kanten entlang des Fußgängerweges im Rosenweg von Laubresten befreien\, Strauchwerk und Rosen zurückschneiden\n-um die Spielgeräte des Rosenwegspielplatzes säubern\, Sandgrube herrichten\, Müll absammeln\n-auf der gesamten Fläche der Seewiesen und Seekante heruntergefallenes Feinglas und Müll absammeln\, überhängende Zweige zurückschneiden\n-Unrat um die Findlinge absammeln und die Findlinge frei mähen\, Feireisig zusammenharken\n-zurückschneiden von überhängenden Sträuchern auf dem Burgplatz\, Laub um die Sportgeräte entfernen\, abharken\n-Unrat im Gebiet der Neustadt absammeln\n-öffentliche Beschilderungen\, Wanderwegweiser und touristische Beschilderungen reinigen \nSchulen\, Hort\, KiTas\, Wohngemeinschaften\, Gartensparten und die Ortsteilvertretung in Gädebehn organisieren ihren Frühjahrsputz bitte eingenständig und informieren die Beteiligten über ihr Vorhaben.\nAlle Vereine sind aufgerufen\, das Umfeld ihrer Vereinsobjekte zu pflegen und zu säubern. \nIn Wessin wird das Kulturhaus von innen gesäubert sowie das Rondell am Friedhof gepflegt. \nZusammengetragener Müll und Unrat werden bitte an einem sichtbaren Ort abgelegt und im Anschluss von den Mitarbeitern des Stadtbauhofes abgefahren. \nAb 12:00 Uhr findet ein Mittagsimbiss an folgenden Stationen statt:\nfür Crivitz             am Bürgerhaus (Rathausstraße 1)\nfür Gädebehn     auf der Wiese vor der Brauerei Albers \nNach Abschluss des Frühjahrsputzes teilen Sie uns bitte zur Würdigung der Teilnehmer und Abrechnung der Leistungen das bearbeitete Objekt und die Teilnehmer bis spätestens 04.04.2026 mit (crivitz@stadt-crivitz.de / 03863 555983 / 0152 59140026). \nWir freuen uns auf tatkräftige Unterstützung!\n-Euer Bürgerhaus Team-
URL:https://www.stadt-crivitz.de/event/fruehjahrsputz-in-crivitz-2/
LOCATION:Bürgerhaus Crivitz\, Rathausstraße 1\, Crivitz\, 19089\, Deutschland
CATEGORIES:Termine
ORGANIZER;CN="Umweltausschuss der Stadt Crivitz":MAILTO:crivitz@stadt-crivitz.de
END:VEVENT
BEGIN:VEVENT
DTSTART;TZID=Europe/Berlin:20260326T140000
DTEND;TZID=Europe/Berlin:20260326T160000
DTSTAMP:20260422T155559
CREATED:20260302T121743Z
LAST-MODIFIED:20260304T134331Z
UID:9889-1774533600-1774540800@www.stadt-crivitz.de
SUMMARY:Informationsveranstaltung des Senioren- und Behindertenbeirates
DESCRIPTION:Der Senioren- und Behindertenbeirat lädt am 26.03.2026 um 14:00 Uhr zu einer Informationsveranstaltung in das Bürgerhaus ein.\n\nEs wird um Fragen und Informationen um das Thema „Hospizarbeit heute“ gehen. \nDer Hospizdienst unterstützt schwerstkranke Menschen und ihre Angehörigen und ermöglicht es\, die letzte Lebensphase bewusst\, selbstbestimmt und möglichst beschwerdefrei in vertrauter Umgebung zu gestalten.\nDas Thema ist sensibel\, aber es kann jeden treffen. \nInformieren Sie sich\, welche Hilfe es gibt und wie Sie gegebenenfalls helfen können – Ihren Nachbarn\, Freunden\, Angehörigen. \nFür wen ist der Hospizdienst da?\nWas kann er leisten?\nWer kann ihn anfordern?\nWie wird er finanziert?\nKann man suich ehrenamtlich engagieren oder anderweitig unterstützen?\nUm diese und weitere Fragen wird es in lockerer Atmosphäre gehen.\nHaben Sie Mut – denn Wissen gibt Sicherheit! \nFriedemann Schirrmeister vom ambulanten Hospizdienst Parchim- Goldberg steht Ihnen mit Informationen und für Ihre Fragen bei Kaffee und Kuchen zur Verfügung. \nWir wünschen dem Senioren- und Behindertenbeirat viele interessierte Besucher und Ihnen viel nützliches Wissen!\n-Ihr Bürgerhaus Team-
URL:https://www.stadt-crivitz.de/event/informationsveranstaltung-des-sbb/
LOCATION:Bürgerhaus Crivitz\, Rathausstraße 1\, Crivitz\, 19089\, Deutschland
CATEGORIES:Termine
ORGANIZER;CN="Senioren- und Behindertenbeirat Crivitz":MAILTO:crivitz@stadt-crivitz.de
END:VEVENT
BEGIN:VEVENT
DTSTART;TZID=Europe/Berlin:20260320T180000
DTEND;TZID=Europe/Berlin:20260320T210000
DTSTAMP:20260422T155559
CREATED:20260225T101529Z
LAST-MODIFIED:20260304T143501Z
UID:9796-1774029600-1774040400@www.stadt-crivitz.de
SUMMARY:Fette Fete Vol. 4
DESCRIPTION:Der Verein Jung und Alt in Crivitz e. V. lädt am 20.03.2026 zur 4. Fetten Fete ein! \nFür alle von 10 bis 16 Jahre. \n18:00- 21:00 Uhr\nGeschwister- Scholl- Platz in Crivitz \nEintritt frei\nBitte bringt euch etwas Taschengeld für Snacks und Getränke mit. \nWir wünschen allen einen stimmungsvollen Abend!\n-Euer Bürgerhaus Team-
URL:https://www.stadt-crivitz.de/event/fette-fete-vol-4/
LOCATION:Geschwister-Scholl-Platz
CATEGORIES:Termine
END:VEVENT
END:VCALENDAR