BEGIN:VCALENDAR
VERSION:2.0
PRODID:-//Crivitz - ECPv6.15.20//NONSGML v1.0//EN
CALSCALE:GREGORIAN
METHOD:PUBLISH
X-WR-CALNAME:Crivitz
X-ORIGINAL-URL:https://www.stadt-crivitz.de
X-WR-CALDESC:Veranstaltungen für Crivitz
REFRESH-INTERVAL;VALUE=DURATION:PT1H
X-Robots-Tag:noindex
X-PUBLISHED-TTL:PT1H
BEGIN:VTIMEZONE
TZID:Europe/Berlin
BEGIN:DAYLIGHT
TZOFFSETFROM:+0100
TZOFFSETTO:+0200
TZNAME:CEST
DTSTART:20250330T010000
END:DAYLIGHT
BEGIN:STANDARD
TZOFFSETFROM:+0200
TZOFFSETTO:+0100
TZNAME:CET
DTSTART:20251026T010000
END:STANDARD
BEGIN:DAYLIGHT
TZOFFSETFROM:+0100
TZOFFSETTO:+0200
TZNAME:CEST
DTSTART:20260329T010000
END:DAYLIGHT
BEGIN:STANDARD
TZOFFSETFROM:+0200
TZOFFSETTO:+0100
TZNAME:CET
DTSTART:20261025T010000
END:STANDARD
BEGIN:DAYLIGHT
TZOFFSETFROM:+0100
TZOFFSETTO:+0200
TZNAME:CEST
DTSTART:20270328T010000
END:DAYLIGHT
BEGIN:STANDARD
TZOFFSETFROM:+0200
TZOFFSETTO:+0100
TZNAME:CET
DTSTART:20271031T010000
END:STANDARD
END:VTIMEZONE
BEGIN:VEVENT
DTSTART;TZID=Europe/Berlin:20260407T143000
DTEND;TZID=Europe/Berlin:20260407T163000
DTSTAMP:20260422T142716
CREATED:20260303T105926Z
LAST-MODIFIED:20260303T105926Z
UID:9913-1775572200-1775579400@www.stadt-crivitz.de
SUMMARY:Kaffeeklatsch
DESCRIPTION:Die Volkssolidarität lädt zum Kaffeeklatsch ins Bürgerhaus in Crivitz ein. \nKommen Sie ins Gespräch über aktuelle\, historische\, lustige oder auch ernste Themen – ungezwungene Plauderein bei einer Tasse Kaffee oder Tee.
URL:https://www.stadt-crivitz.de/event/kaffeeklatsch-2/
LOCATION:Bürgerhaus Crivitz\, Rathausstraße 1\, Crivitz\, 19089\, Deutschland
CATEGORIES:Termine
END:VEVENT
END:VCALENDAR