BEGIN:VCALENDAR
VERSION:2.0
PRODID:-//Crivitz - ECPv6.15.20//NONSGML v1.0//EN
CALSCALE:GREGORIAN
METHOD:PUBLISH
X-WR-CALNAME:Crivitz
X-ORIGINAL-URL:https://www.stadt-crivitz.de
X-WR-CALDESC:Veranstaltungen für Crivitz
REFRESH-INTERVAL;VALUE=DURATION:PT1H
X-Robots-Tag:noindex
X-PUBLISHED-TTL:PT1H
BEGIN:VTIMEZONE
TZID:Europe/Berlin
BEGIN:DAYLIGHT
TZOFFSETFROM:+0100
TZOFFSETTO:+0200
TZNAME:CEST
DTSTART:20250330T010000
END:DAYLIGHT
BEGIN:STANDARD
TZOFFSETFROM:+0200
TZOFFSETTO:+0100
TZNAME:CET
DTSTART:20251026T010000
END:STANDARD
BEGIN:DAYLIGHT
TZOFFSETFROM:+0100
TZOFFSETTO:+0200
TZNAME:CEST
DTSTART:20260329T010000
END:DAYLIGHT
BEGIN:STANDARD
TZOFFSETFROM:+0200
TZOFFSETTO:+0100
TZNAME:CET
DTSTART:20261025T010000
END:STANDARD
BEGIN:DAYLIGHT
TZOFFSETFROM:+0100
TZOFFSETTO:+0200
TZNAME:CEST
DTSTART:20270328T010000
END:DAYLIGHT
BEGIN:STANDARD
TZOFFSETFROM:+0200
TZOFFSETTO:+0100
TZNAME:CET
DTSTART:20271031T010000
END:STANDARD
END:VTIMEZONE
BEGIN:VEVENT
DTSTART;TZID=Europe/Berlin:20260404T110000
DTEND;TZID=Europe/Berlin:20260404T133000
DTSTAMP:20260422T142728
CREATED:20260324T141036Z
LAST-MODIFIED:20260324T141036Z
UID:10080-1775300400-1775309400@www.stadt-crivitz.de
SUMMARY:Circus Ascona
DESCRIPTION:Vorstellungsbeginn 15:30 Uhr\nFamilientag: Erwachsene zahlen die Kinderpreise
URL:https://www.stadt-crivitz.de/event/circus-ascona-4/
LOCATION:Festwiese am See
CATEGORIES:Termine
END:VEVENT
BEGIN:VEVENT
DTSTART;TZID=Europe/Berlin:20260404T180000
DTEND;TZID=Europe/Berlin:20260404T180000
DTSTAMP:20260422T142728
CREATED:20260325T132549Z
LAST-MODIFIED:20260325T132549Z
UID:10094-1775325600-1775325600@www.stadt-crivitz.de
SUMMARY:Osterfeuer Kladow
DESCRIPTION:Beginn 18:00 Uhr\nauf dem Dorfplatz in Kladow \nFür das leibliche Wohl wird gesorgt sein. \nWir wünschen allen einen geselligen Abend!\n-Ihr Bürgerhaus Team-
URL:https://www.stadt-crivitz.de/event/osterfeuer-kladow/
LOCATION:Dorfplatz Kladow\, Kladow\, Mecklenburg- Vorpommern\, 19089\, Germany
CATEGORIES:Termine
END:VEVENT
END:VCALENDAR