BEGIN:VCALENDAR
VERSION:2.0
PRODID:-//Crivitz - ECPv6.15.20//NONSGML v1.0//EN
CALSCALE:GREGORIAN
METHOD:PUBLISH
X-ORIGINAL-URL:https://www.stadt-crivitz.de
X-WR-CALDESC:Veranstaltungen für Crivitz
REFRESH-INTERVAL;VALUE=DURATION:PT1H
X-Robots-Tag:noindex
X-PUBLISHED-TTL:PT1H
BEGIN:VTIMEZONE
TZID:Europe/Berlin
BEGIN:DAYLIGHT
TZOFFSETFROM:+0100
TZOFFSETTO:+0200
TZNAME:CEST
DTSTART:20250330T010000
END:DAYLIGHT
BEGIN:STANDARD
TZOFFSETFROM:+0200
TZOFFSETTO:+0100
TZNAME:CET
DTSTART:20251026T010000
END:STANDARD
BEGIN:DAYLIGHT
TZOFFSETFROM:+0100
TZOFFSETTO:+0200
TZNAME:CEST
DTSTART:20260329T010000
END:DAYLIGHT
BEGIN:STANDARD
TZOFFSETFROM:+0200
TZOFFSETTO:+0100
TZNAME:CET
DTSTART:20261025T010000
END:STANDARD
BEGIN:DAYLIGHT
TZOFFSETFROM:+0100
TZOFFSETTO:+0200
TZNAME:CEST
DTSTART:20270328T010000
END:DAYLIGHT
BEGIN:STANDARD
TZOFFSETFROM:+0200
TZOFFSETTO:+0100
TZNAME:CET
DTSTART:20271031T010000
END:STANDARD
END:VTIMEZONE
BEGIN:VEVENT
DTSTART;TZID=Europe/Berlin:20260402T140000
DTEND;TZID=Europe/Berlin:20260402T160000
DTSTAMP:20260422T142847
CREATED:20260225T111808Z
LAST-MODIFIED:20260225T111808Z
UID:9829-1775138400-1775145600@www.stadt-crivitz.de
SUMMARY:Strickmarathon
DESCRIPTION:Der Heimatverein Crivitz e. V. lädt zum gemütlichen Zusammensein ein.\nBringen Sie sich Ihre Strick- Utensilien mit und verbringen Sie gemeinsam entspannte Stunden mit Handarbeit.
URL:https://www.stadt-crivitz.de/event/strickmarathon-3/
LOCATION:Bürgerhaus Crivitz\, Rathausstraße 1\, Crivitz\, 19089\, Deutschland
CATEGORIES:Termine
END:VEVENT
BEGIN:VEVENT
DTSTART;TZID=Europe/Berlin:20260402T190000
DTEND;TZID=Europe/Berlin:20260402T190000
DTSTAMP:20260422T142847
CREATED:20260318T105956Z
LAST-MODIFIED:20260318T110436Z
UID:10031-1775156400-1775156400@www.stadt-crivitz.de
SUMMARY:Osterfeuer in Wessin
DESCRIPTION:Der Förderverein der Freiwilligen Feuerwehr OT Wessin e. V. lädt am 02.04.2026 um 19:00 Uhr auf die Festwiese in Wessin zum Osterfeuer ein. \nmit XXL Feuerschale \nFür das leibliche Wohl wird gesorgt sein. \nWr wünschen einen vergnüglichen Abend!\n-Euer Bürgerhaus Team-
URL:https://www.stadt-crivitz.de/event/osterfeuer-in-wessin-02-04-2026/
LOCATION:Festwiese Wessin
CATEGORIES:Termine
END:VEVENT
END:VCALENDAR